BEGIN:VCALENDAR
VERSION:2.0
PRODID:-//Sass Magazine - ECPv6.15.18//NONSGML v1.0//EN
CALSCALE:GREGORIAN
METHOD:PUBLISH
X-ORIGINAL-URL:https://sassmagazine.com
X-WR-CALDESC:Events for Sass Magazine
REFRESH-INTERVAL;VALUE=DURATION:PT1H
X-Robots-Tag:noindex
X-PUBLISHED-TTL:PT1H
BEGIN:VTIMEZONE
TZID:UTC
BEGIN:STANDARD
TZOFFSETFROM:+0000
TZOFFSETTO:+0000
TZNAME:UTC
DTSTART:20220101T000000
END:STANDARD
END:VTIMEZONE
BEGIN:VEVENT
DTSTART;TZID=UTC:20230828T090000
DTEND;TZID=UTC:20230830T210000
DTSTAMP:20260421T090802
CREATED:20230804T141432Z
LAST-MODIFIED:20230804T141432Z
UID:18215-1693213200-1693429200@sassmagazine.com
SUMMARY:CONNECT - community self care experience
DESCRIPTION:CONNECT – a community self care experience by Moderne Homemaker \nJoin us for 3 full days of immersive experiences to connect in supportive community with your inner truth and the sacred rhythm of the universe. You will be guided to create a personalized self care practice that feels freeing and fulfilling. \nThere will be live and recorded events each day alongside some amazing guest presenters\, plus we will have a major Giveaway!!! \nThis is a FREE online event\, happening Aug 28-30. There is also a VIP option with lifetime access to our private event group\, access to exclusive sessions\, personalized bonuses and more! \nRSVP and find out more: http://eepurl.com/iwzNLI
URL:https://sassmagazine.com/event/connect-community-self-care-experience/
LOCATION:MD
CATEGORIES:Virtual Event
ORGANIZER;CN="Moderne Homemaker":MAILTO:modernehomemaker@gmail.com
END:VEVENT
END:VCALENDAR