BEGIN:VCALENDAR
VERSION:2.0
PRODID:-//Sass Magazine - ECPv6.15.18//NONSGML v1.0//EN
CALSCALE:GREGORIAN
METHOD:PUBLISH
X-ORIGINAL-URL:https://sassmagazine.com
X-WR-CALDESC:Events for Sass Magazine
REFRESH-INTERVAL;VALUE=DURATION:PT1H
X-Robots-Tag:noindex
X-PUBLISHED-TTL:PT1H
BEGIN:VTIMEZONE
TZID:UTC
BEGIN:STANDARD
TZOFFSETFROM:+0000
TZOFFSETTO:+0000
TZNAME:UTC
DTSTART:20230101T000000
END:STANDARD
END:VTIMEZONE
BEGIN:VEVENT
DTSTART;VALUE=DATE:20240128
DTEND;VALUE=DATE:20240131
DTSTAMP:20260421T090812
CREATED:20240104T194744Z
LAST-MODIFIED:20240104T194744Z
UID:20209-1706400000-1706659199@sassmagazine.com
SUMMARY:NAWBO Leadership Academy 2024
DESCRIPTION:Our NAWBO members are busy women entrepreneurs who not only run their own businesses\, but many are also in leadership positions in their local NAWBO chapters. They care who supports their community of women business owners through NAWBO. They want to do business with these businesses; and refer others to do the same. That’s why you won’t want to miss the opportunity to personally connect with these women business owners and leaders by sponsoring and participating in the 2024 NAWBO Leadership Academy in January. \nREGISTER HERE
URL:https://sassmagazine.com/event/nawbo-leadership-academy-2024/
LOCATION:Outdoors
CATEGORIES:In Person Event
END:VEVENT
BEGIN:VEVENT
DTSTART;TZID=UTC:20240130T170000
DTEND;TZID=UTC:20240130T190000
DTSTAMP:20260421T090812
CREATED:20240129T212659Z
LAST-MODIFIED:20240129T212659Z
UID:19403-1706634000-1706641200@sassmagazine.com
SUMMARY:WBN January Happy Hour
DESCRIPTION:Eat\, drink\, and connect with the WBN of Frederick! Feel free to bring the ladies you love – coworkers\, associates\, and friends. We welcome all\, members or not\, and look forward to supporting you! \n\n\n\n\n\n\n\n\n\n\n\n\nRegister Now
URL:https://sassmagazine.com/event/wbn-january-happy-hour/
LOCATION:Delizia’s Cafe\, 14 E Patrick St
CATEGORIES:In Person Event
END:VEVENT
END:VCALENDAR