BEGIN:VCALENDAR
VERSION:2.0
PRODID:-//Sass Magazine - ECPv6.15.18//NONSGML v1.0//EN
CALSCALE:GREGORIAN
METHOD:PUBLISH
X-ORIGINAL-URL:https://sassmagazine.com
X-WR-CALDESC:Events for Sass Magazine
REFRESH-INTERVAL;VALUE=DURATION:PT1H
X-Robots-Tag:noindex
X-PUBLISHED-TTL:PT1H
BEGIN:VTIMEZONE
TZID:UTC
BEGIN:STANDARD
TZOFFSETFROM:+0000
TZOFFSETTO:+0000
TZNAME:UTC
DTSTART:20230101T000000
END:STANDARD
END:VTIMEZONE
BEGIN:VEVENT
DTSTART;VALUE=DATE:20240131
DTEND;VALUE=DATE:20240226
DTSTAMP:20260421T104421
CREATED:20240105T181419Z
LAST-MODIFIED:20260126T000242Z
UID:20210-1706659200-1708905599@sassmagazine.com
SUMMARY:DISTRICT Arts presents “50 Shades of … Everything” by Mark Johnson
DESCRIPTION:Mark Johnson can be found roaming the streets of downtown Frederick\, MD with his Nikon on weekends\, about every 4-6 weeks or so\, searching for new Faces Of Frederick. While Mark loves the “Faces” project\, this exhibition is all about color – the full spectrum\, from monochromatic grays to deep magentas\, and everything in between. \nThe exhibition runs from January 31 through February 25 and is free and open to the public. A reception will be held from 5-7 PM on February 10. \nVisit https://www.districtarts.com/mark-johnson for more information and gallery hours.
URL:https://sassmagazine.com/event/district-arts-presents-50-shades-of-everything-by-mark-johnson/
LOCATION:District Arts\, 15 North Market Street\, Frederick\, MD\, United States
CATEGORIES:In Person Event
END:VEVENT
BEGIN:VEVENT
DTSTART;TZID=UTC:20240208T160000
DTEND;TZID=UTC:20240208T180000
DTSTAMP:20260421T104421
CREATED:20240129T182611Z
LAST-MODIFIED:20240129T182611Z
UID:19396-1707408000-1707415200@sassmagazine.com
SUMMARY:Bubbly and Chocolates (and Diamonds too!)
DESCRIPTION:Join us\, Thursday\, February 8th\, for a sparkling wine and chocolates tasting from 4pm – 6pm. Linganore Winecellars will be here pouring a selection of sparkling wines to pair with chocolates from the local ChocoSombra all while shopping our showrooms latest styles. \nWe’re celebrating LOVE all month long at Colonial Jewelers and we want to celebrate with YOU! \nRSVP HERE
URL:https://sassmagazine.com/event/bubbly-and-chocolates-and-diamonds-too/
LOCATION:Colonial Jewelers\, 1 S Market St\, Frederick\, MD\, 21701\, United States
CATEGORIES:In Person Event
END:VEVENT
END:VCALENDAR