BEGIN:VCALENDAR
VERSION:2.0
PRODID:-//Sass Magazine - ECPv6.15.18//NONSGML v1.0//EN
CALSCALE:GREGORIAN
METHOD:PUBLISH
X-ORIGINAL-URL:https://sassmagazine.com
X-WR-CALDESC:Events for Sass Magazine
REFRESH-INTERVAL;VALUE=DURATION:PT1H
X-Robots-Tag:noindex
X-PUBLISHED-TTL:PT1H
BEGIN:VTIMEZONE
TZID:America/New_York
BEGIN:DAYLIGHT
TZOFFSETFROM:-0500
TZOFFSETTO:-0400
TZNAME:EDT
DTSTART:20240310T070000
END:DAYLIGHT
BEGIN:STANDARD
TZOFFSETFROM:-0400
TZOFFSETTO:-0500
TZNAME:EST
DTSTART:20241103T060000
END:STANDARD
BEGIN:DAYLIGHT
TZOFFSETFROM:-0500
TZOFFSETTO:-0400
TZNAME:EDT
DTSTART:20250309T070000
END:DAYLIGHT
BEGIN:STANDARD
TZOFFSETFROM:-0400
TZOFFSETTO:-0500
TZNAME:EST
DTSTART:20251102T060000
END:STANDARD
BEGIN:DAYLIGHT
TZOFFSETFROM:-0500
TZOFFSETTO:-0400
TZNAME:EDT
DTSTART:20260308T070000
END:DAYLIGHT
BEGIN:STANDARD
TZOFFSETFROM:-0400
TZOFFSETTO:-0500
TZNAME:EST
DTSTART:20261101T060000
END:STANDARD
END:VTIMEZONE
BEGIN:VEVENT
DTSTART;VALUE=DATE:20250714
DTEND;VALUE=DATE:20250715
DTSTAMP:20260419T150911
CREATED:20250612T173204Z
LAST-MODIFIED:20250821T172328Z
UID:22749-1752451200-1752537599@sassmagazine.com
SUMMARY:BIG Cork Summer Concert Series: Fleetwood Macked!
DESCRIPTION:BIG Cork Vineyards celebrates 10 years of award-winning wine and unforgettable memories with the 2025 Summer Concert Series—a four-part\, all-day music festival running from June through October in the scenic vineyards of Rohrersville\, Maryland. \nThis full-day bash runs from 11:00 AM to 6:00 PM on July 14\, featuring: \n\n\n🎶 Live music from Fleetwood Macked!\, Eclipse (Journey Tribute)\, and Totally Bowie \n\n\n🍷 Wine specials and signature wine-based cocktails \n\n\n🚚 Top-tier food trucks \n\n\n🎉 A vibrant\, festival-like atmosphere \n\n\nThis 21+ only event is a must for music lovers and wine enthusiasts alike. General admission tickets are $37.50 per event\, or save with a Season Pass ($125)—good for entry to all four concerts. \nGET TICKETS NOW
URL:https://sassmagazine.com/event/big-cork-summer-concert-series-fleetwood-macked/
LOCATION:BIG Cork Vineyards\, 4236 Main St\, Rohrersville\, MD
CATEGORIES:In Person Event
END:VEVENT
END:VCALENDAR