BEGIN:VCALENDAR
VERSION:2.0
PRODID:-//Sass Magazine - ECPv6.15.18//NONSGML v1.0//EN
CALSCALE:GREGORIAN
METHOD:PUBLISH
X-WR-CALNAME:Sass Magazine
X-ORIGINAL-URL:https://sassmagazine.com
X-WR-CALDESC:Events for Sass Magazine
REFRESH-INTERVAL;VALUE=DURATION:PT1H
X-Robots-Tag:noindex
X-PUBLISHED-TTL:PT1H
BEGIN:VTIMEZONE
TZID:America/New_York
BEGIN:DAYLIGHT
TZOFFSETFROM:-0500
TZOFFSETTO:-0400
TZNAME:EDT
DTSTART:20240310T070000
END:DAYLIGHT
BEGIN:STANDARD
TZOFFSETFROM:-0400
TZOFFSETTO:-0500
TZNAME:EST
DTSTART:20241103T060000
END:STANDARD
BEGIN:DAYLIGHT
TZOFFSETFROM:-0500
TZOFFSETTO:-0400
TZNAME:EDT
DTSTART:20250309T070000
END:DAYLIGHT
BEGIN:STANDARD
TZOFFSETFROM:-0400
TZOFFSETTO:-0500
TZNAME:EST
DTSTART:20251102T060000
END:STANDARD
BEGIN:DAYLIGHT
TZOFFSETFROM:-0500
TZOFFSETTO:-0400
TZNAME:EDT
DTSTART:20260308T070000
END:DAYLIGHT
BEGIN:STANDARD
TZOFFSETFROM:-0400
TZOFFSETTO:-0500
TZNAME:EST
DTSTART:20261101T060000
END:STANDARD
END:VTIMEZONE
BEGIN:VEVENT
DTSTART;TZID=America/New_York:20250715T120000
DTEND;TZID=America/New_York:20250715T130000
DTSTAMP:20260419T132957
CREATED:20250316T220539Z
LAST-MODIFIED:20250316T220539Z
UID:22244-1752580800-1752584400@sassmagazine.com
SUMMARY:Monthly VIP Society Call: Guest Speaker Ashley-Victoria Smith: PR and Publicity
DESCRIPTION:Join the VIP Society Monthly Call featuring guest speaker Ashley-Victoria Smith\, a PR and publicity expert\, as she shares insider strategies to help you amplify your brand’s visibility. Learn how to craft compelling stories\, gain media attention\, and position yourself as an industry leader. Don’t miss this chance to elevate your business with expert PR insights and connect with like-minded entrepreneurs! \nJoin the VIP Society today!
URL:https://sassmagazine.com/event/monthly-vip-society-call-guest-speaker-ashley-victoria-smith-pr-and-publicity/
LOCATION:Virtual
CATEGORIES:Virtual Event
END:VEVENT
END:VCALENDAR