BEGIN:VCALENDAR
VERSION:2.0
PRODID:-//Sass Magazine - ECPv6.15.18//NONSGML v1.0//EN
CALSCALE:GREGORIAN
METHOD:PUBLISH
X-ORIGINAL-URL:https://sassmagazine.com
X-WR-CALDESC:Events for Sass Magazine
REFRESH-INTERVAL;VALUE=DURATION:PT1H
X-Robots-Tag:noindex
X-PUBLISHED-TTL:PT1H
BEGIN:VTIMEZONE
TZID:America/New_York
BEGIN:DAYLIGHT
TZOFFSETFROM:-0500
TZOFFSETTO:-0400
TZNAME:EDT
DTSTART:20250309T070000
END:DAYLIGHT
BEGIN:STANDARD
TZOFFSETFROM:-0400
TZOFFSETTO:-0500
TZNAME:EST
DTSTART:20251102T060000
END:STANDARD
BEGIN:DAYLIGHT
TZOFFSETFROM:-0500
TZOFFSETTO:-0400
TZNAME:EDT
DTSTART:20260308T070000
END:DAYLIGHT
BEGIN:STANDARD
TZOFFSETFROM:-0400
TZOFFSETTO:-0500
TZNAME:EST
DTSTART:20261101T060000
END:STANDARD
BEGIN:DAYLIGHT
TZOFFSETFROM:-0500
TZOFFSETTO:-0400
TZNAME:EDT
DTSTART:20270314T070000
END:DAYLIGHT
BEGIN:STANDARD
TZOFFSETFROM:-0400
TZOFFSETTO:-0500
TZNAME:EST
DTSTART:20271107T060000
END:STANDARD
END:VTIMEZONE
BEGIN:VEVENT
DTSTART;TZID=America/New_York:20260301T120000
DTEND;TZID=America/New_York:20260301T160000
DTSTAMP:20260423T053632
CREATED:20260129T204019Z
LAST-MODIFIED:20260130T171223Z
UID:24264-1772366400-1772380800@sassmagazine.com
SUMMARY:Frederick Punk Rock Flea Market
DESCRIPTION:The 1st Frederick Punk Rock Flea Market will be held on March 1st between 12:00 pm and 4:00 pm and will feature over 50 local artists and crafters selling handcrafted goods\, and local collectors selling punk clothes\, memorabilia and records. There will also be locally made food by local food and coffee\, and Steinhardt will be serving freshly brewed delicious beer. A national non profit Punk Rock Saves Life will also be on site providing information and resources on keeping the local community safe and healthy. \n  \nLEARN MORE HERE!
URL:https://sassmagazine.com/event/frederick-punk-rock-flea-market/
LOCATION:Steinhardt Brewing Company\, 340 E Patrick St\, Suite 100-102\, Frederick\, MD\, 21701\, United States
CATEGORIES:In Person Event
ATTACH;FMTTYPE=image/jpeg:https://sassmagazine.com/wp-content/uploads/2026/01/unnamed-2.jpg
END:VEVENT
END:VCALENDAR