BEGIN:VCALENDAR
VERSION:2.0
PRODID:-//Sass Magazine - ECPv6.15.18//NONSGML v1.0//EN
CALSCALE:GREGORIAN
METHOD:PUBLISH
X-ORIGINAL-URL:https://sassmagazine.com
X-WR-CALDESC:Events for Sass Magazine
REFRESH-INTERVAL;VALUE=DURATION:PT1H
X-Robots-Tag:noindex
X-PUBLISHED-TTL:PT1H
BEGIN:VTIMEZONE
TZID:America/New_York
BEGIN:DAYLIGHT
TZOFFSETFROM:-0500
TZOFFSETTO:-0400
TZNAME:EDT
DTSTART:20250309T070000
END:DAYLIGHT
BEGIN:STANDARD
TZOFFSETFROM:-0400
TZOFFSETTO:-0500
TZNAME:EST
DTSTART:20251102T060000
END:STANDARD
BEGIN:DAYLIGHT
TZOFFSETFROM:-0500
TZOFFSETTO:-0400
TZNAME:EDT
DTSTART:20260308T070000
END:DAYLIGHT
BEGIN:STANDARD
TZOFFSETFROM:-0400
TZOFFSETTO:-0500
TZNAME:EST
DTSTART:20261101T060000
END:STANDARD
BEGIN:DAYLIGHT
TZOFFSETFROM:-0500
TZOFFSETTO:-0400
TZNAME:EDT
DTSTART:20270314T070000
END:DAYLIGHT
BEGIN:STANDARD
TZOFFSETFROM:-0400
TZOFFSETTO:-0500
TZNAME:EST
DTSTART:20271107T060000
END:STANDARD
END:VTIMEZONE
BEGIN:VEVENT
DTSTART;TZID=America/New_York:20260308T080000
DTEND;TZID=America/New_York:20260312T170000
DTSTAMP:20260421T104518
CREATED:20260223T131624Z
LAST-MODIFIED:20260223T131624Z
UID:24348-1772956800-1773334800@sassmagazine.com
SUMMARY:Women Who Rock Business Summit 2026
DESCRIPTION:Join us for 5 days to clarify your message\, craft your client-attracting talk\, refine your offer\, learn high-integrity enrollment skills\, and scale your visibility without burnin out.\n\n\nPractical. Strategic. Implementable.\n\nSave your free seat
URL:https://sassmagazine.com/event/women-who-rock-business-summit-2026/
LOCATION:Virtual
CATEGORIES:Virtual Event
ORGANIZER;CN="Women Rocking Busines":MAILTO:sage@womenrockingbusiness.com
END:VEVENT
BEGIN:VEVENT
DTSTART;VALUE=DATE:20260309
DTEND;VALUE=DATE:20260312
DTSTAMP:20260421T104518
CREATED:20250731T121906Z
LAST-MODIFIED:20250731T121907Z
UID:23035-1773014400-1773273599@sassmagazine.com
SUMMARY:International Conference on Industrial and Manufacturing Engineering
DESCRIPTION:The International Conference on Industrial and Manufacturing Engineering will be held on March 09-11\, 2026 in London\, UK. \nThe International Conference on Industrial and Manufacturing Engineering ICIME2026 is a premier event for professionals and academics in the fields of industrial engineering and manufacturing. This event offers a unique platform for sharing innovative ideas\, discussing emerging trends\, and fostering collaborations across industries. With the continuous advancements in manufacturing technology\, automation\, and sustainability practices\, this conference aims to address the current challenges and opportunities within the sector. \nThe conference will feature keynote speeches from industry leaders\, technical sessions showcasing cutting-edge research\, and workshops that explore the practical applications of new technologies. It will also be an ideal venue for students\, researchers\, and professionals to expand their knowledge\, exchange ideas\, and build partnerships. \nICIME2026 will be held at the London in UK. This venue is known for its excellent facilities and accessibility\, providing a comfortable and productive environment for all attendees. \n  \nLEARN MORE
URL:https://sassmagazine.com/event/international-conference-on-industrial-and-manufacturing-engineering/
LOCATION:One Western Gateway\, One Western Gateway\, Royal Victoria Dock\, ExCeL London\, Royal Victoria Dock\, London E16 1XL\, United Kingdom
CATEGORIES:In Person Event
END:VEVENT
END:VCALENDAR