BEGIN:VCALENDAR
VERSION:2.0
PRODID:-//Sass Magazine - ECPv6.15.18//NONSGML v1.0//EN
CALSCALE:GREGORIAN
METHOD:PUBLISH
X-ORIGINAL-URL:https://sassmagazine.com
X-WR-CALDESC:Events for Sass Magazine
REFRESH-INTERVAL;VALUE=DURATION:PT1H
X-Robots-Tag:noindex
X-PUBLISHED-TTL:PT1H
BEGIN:VTIMEZONE
TZID:America/New_York
BEGIN:DAYLIGHT
TZOFFSETFROM:-0500
TZOFFSETTO:-0400
TZNAME:EDT
DTSTART:20250309T070000
END:DAYLIGHT
BEGIN:STANDARD
TZOFFSETFROM:-0400
TZOFFSETTO:-0500
TZNAME:EST
DTSTART:20251102T060000
END:STANDARD
BEGIN:DAYLIGHT
TZOFFSETFROM:-0500
TZOFFSETTO:-0400
TZNAME:EDT
DTSTART:20260308T070000
END:DAYLIGHT
BEGIN:STANDARD
TZOFFSETFROM:-0400
TZOFFSETTO:-0500
TZNAME:EST
DTSTART:20261101T060000
END:STANDARD
BEGIN:DAYLIGHT
TZOFFSETFROM:-0500
TZOFFSETTO:-0400
TZNAME:EDT
DTSTART:20270314T070000
END:DAYLIGHT
BEGIN:STANDARD
TZOFFSETFROM:-0400
TZOFFSETTO:-0500
TZNAME:EST
DTSTART:20271107T060000
END:STANDARD
END:VTIMEZONE
BEGIN:VEVENT
DTSTART;TZID=America/New_York:20260313T110000
DTEND;TZID=America/New_York:20260315T160000
DTSTAMP:20260421T120447
CREATED:20250930T182030Z
LAST-MODIFIED:20250930T182030Z
UID:23469-1773399600-1773590400@sassmagazine.com
SUMMARY:An All Pink Affair
DESCRIPTION:Welcome to this celebration of women. \nGet ready to be dazzled at the most pink-tastic event of the year! Join us for 3 days filled with all things pink and fabulous. \nAt this fun event for women and girls\, you can expect to find a wide array of pink-themed vendors\, interactive workshops\, and fun activities for all ages. Whether you’re a pink enthusiast or just looking for a good time\, this event is the place to be! \nDon’t miss out on the chance to immerse yourself in all things pink and have a blast with fellow pink lovers. Mark your calendars and get ready to dazzle in pink! \nEveryone Welcome! \nSign Up Here to be a vendor
URL:https://sassmagazine.com/event/an-all-pink-affair/
LOCATION:Mitt Manifesters\, 7419 Van Dusen Rd\, Laurel\, MD\, 20707\, United States
CATEGORIES:In Person Event
ORGANIZER;CN="The WIN Group":MAILTO:info@thewingroup.org
END:VEVENT
BEGIN:VEVENT
DTSTART;TZID=America/New_York:20260314T160000
DTEND;TZID=America/New_York:20260314T200000
DTSTAMP:20260421T120447
CREATED:20260203T145137Z
LAST-MODIFIED:20260203T145137Z
UID:24302-1773504000-1773518400@sassmagazine.com
SUMMARY:Leprechaun Luau 2026
DESCRIPTION:Join us at the Frederick Fairgrounds for an unforgettable evening of great food\, drinks\, music\, dancing\, and fun — all while supporting important community programs. When the Emerald Isle meets the South Pacific\, the flavors are unforgettable! Enjoy a catered dinner featuring an entrée\, soup\, salad or side\, and desserts\, served with festive flair. Your first two drinks are included\, with additional drinks available for purchase. \nThe Leprechaun Luau is the signature fundraising event of The Rotary Club of Frederick\, one of the largest and most active service clubs in the region. Since our founding in 1920\, the Rotary Club of Frederick has funded dozens of projects that make our community a better place to live\, work\, and play. \nYour $65 ticket includes: \n\nSignature LepLu drinking glass\nTwo drink tokens\nLive entertainment from Crash the Limo\nCatered dinner featuring an entrée\, soup\, salad/side\, and desserts\nAvocado Toast and Mocktail by Silver Diner\nA raffle entry chance to win the Grand Prize — trip for two\, compliments of Cruise Holidays of Frederick –\nExperts at Land and Sea!\n\nSilent auction\, raffle tickets and drink tokens available for purchase. \nGET TICKETS
URL:https://sassmagazine.com/event/leprechaun-luau-2026/
LOCATION:Frederick Fairgrounds\, 797 E Patrick St\, Frederick\, MD\, 21701\, United States
CATEGORIES:In Person Event
END:VEVENT
BEGIN:VEVENT
DTSTART;TZID=America/New_York:20260314T180000
DTEND;TZID=America/New_York:20260314T220000
DTSTAMP:20260421T120447
CREATED:20260106T140201Z
LAST-MODIFIED:20260106T140201Z
UID:24092-1773511200-1773525600@sassmagazine.com
SUMMARY:Clutch the Future
DESCRIPTION:Clutch the Future is Woman to Woman Mentoring’s signature fundraising event\, designed to grow and sustain a mentoring culture in Frederick County. Named Best Charitable Event in Frederick\, the event brings together more than 300 women alongside 150 or more purses available for bidding. \nHeld on Saturday\, March 14\, 2026\, at Coblentz Hall on the Hood College campus\, the evening includes a VIP hour beginning at 6:00 PM\, followed by the main event from 7:00 to 10:00 PM. The event celebrates community\, connection\, and the power of mentorship while supporting programs that connect women with guidance\, resources and opportunity. \n\nGET TICKETS
URL:https://sassmagazine.com/event/clutch-the-future/
LOCATION:Coblentz Hall\, Hood College\, 650 Blazer Trail\, Frederick\, MD\, 21701\, United States
CATEGORIES:In Person Event
END:VEVENT
END:VCALENDAR