BEGIN:VCALENDAR
VERSION:2.0
PRODID:-//Sass Magazine - ECPv6.15.18//NONSGML v1.0//EN
CALSCALE:GREGORIAN
METHOD:PUBLISH
X-ORIGINAL-URL:https://sassmagazine.com
X-WR-CALDESC:Events for Sass Magazine
REFRESH-INTERVAL;VALUE=DURATION:PT1H
X-Robots-Tag:noindex
X-PUBLISHED-TTL:PT1H
BEGIN:VTIMEZONE
TZID:America/New_York
BEGIN:DAYLIGHT
TZOFFSETFROM:-0500
TZOFFSETTO:-0400
TZNAME:EDT
DTSTART:20250309T070000
END:DAYLIGHT
BEGIN:STANDARD
TZOFFSETFROM:-0400
TZOFFSETTO:-0500
TZNAME:EST
DTSTART:20251102T060000
END:STANDARD
BEGIN:DAYLIGHT
TZOFFSETFROM:-0500
TZOFFSETTO:-0400
TZNAME:EDT
DTSTART:20260308T070000
END:DAYLIGHT
BEGIN:STANDARD
TZOFFSETFROM:-0400
TZOFFSETTO:-0500
TZNAME:EST
DTSTART:20261101T060000
END:STANDARD
BEGIN:DAYLIGHT
TZOFFSETFROM:-0500
TZOFFSETTO:-0400
TZNAME:EDT
DTSTART:20270314T070000
END:DAYLIGHT
BEGIN:STANDARD
TZOFFSETFROM:-0400
TZOFFSETTO:-0500
TZNAME:EST
DTSTART:20271107T060000
END:STANDARD
END:VTIMEZONE
BEGIN:VEVENT
DTSTART;TZID=America/New_York:20260325T080000
DTEND;TZID=America/New_York:20260325T170000
DTSTAMP:20260421T095900
CREATED:20260325T193510Z
LAST-MODIFIED:20260325T193510Z
UID:24570-1774425600-1774458000@sassmagazine.com
SUMMARY:2026 Maryland Lavender Festival
DESCRIPTION:Join us for a day in the lavender field. Enjoy picturesque views\, vendors\, live music\, food trucks\, glasses & bottles of wine\, pints & growlers of beer\, handcrafted distilled spirits\, educational seminars & demonstrations. Relax in the fragrant field\, photograph the scenery\, and shop the artisan vendors. Gifts\, plants\, dried lavender\, and freshly cut bundles will be available for purchase.  \nPlease note – wine tastings and beer flights will NOT be available during this event. Due to the size of the festival\, only glasses & bottles will be available.. Check out our tasting room hours\, wine list\, and details about joining us for wine tastings & beer flights on the winery/brewery/distillery tab. Tickets to the festival include a tasting of our handcrafted distilled spirits including our award winning Lavender Gin & Lavender Vodka – limit one per person/must be 21 w/govt. issued photo ID. \nAll adults and children 2 and over require a ticket to attend the event. Tickets cover a single day entry to festival. Advanced ticket purchase is required. All ticket sales are final and event will be held rain or shine. Space is limited – purchase your ticket today. This is predominately an adult event due to the nature of the facility. \nLavender is a plant that thrives in direct sunlight. The event is hosted in our beautiful fields. We have limited areas of shade and lots of sunlight. Sunscreen\, large hats\, & umbrellas are recommended.  \nNo outside food\, beverages (except sealed bottled water)\, pets\, or pop up tents are permitted at the festival. Strollers are not permitted within 5 feet of the lavender fields/rows.  \nA ticket to the festival includes: entry\, parking\, unlimited lavender lemonade\, spirit tasting (1 per person/over 21yrs required)\, access to lavender fields for photos & enjoyment\, hydrosol samples\, 70+ vendors\, live music\, demonstrations & seminars\, bath salt making\, water color painting\, photo op spots & backdrops.
URL:https://sassmagazine.com/event/2026-maryland-lavender-festival/
LOCATION:Springfield Manor\, 11836 Auburn Rd\, Thurmont\, MD\, 21788\, United States
CATEGORIES:In Person Event
ORGANIZER;CN="Springfield Manor":MAILTO:Brian@SpringfieldManor.com
END:VEVENT
END:VCALENDAR