BEGIN:VCALENDAR
VERSION:2.0
PRODID:-//Sass Magazine - ECPv6.15.18//NONSGML v1.0//EN
CALSCALE:GREGORIAN
METHOD:PUBLISH
X-ORIGINAL-URL:https://sassmagazine.com
X-WR-CALDESC:Events for Sass Magazine
REFRESH-INTERVAL;VALUE=DURATION:PT1H
X-Robots-Tag:noindex
X-PUBLISHED-TTL:PT1H
BEGIN:VTIMEZONE
TZID:America/New_York
BEGIN:DAYLIGHT
TZOFFSETFROM:-0500
TZOFFSETTO:-0400
TZNAME:EDT
DTSTART:20250309T070000
END:DAYLIGHT
BEGIN:STANDARD
TZOFFSETFROM:-0400
TZOFFSETTO:-0500
TZNAME:EST
DTSTART:20251102T060000
END:STANDARD
BEGIN:DAYLIGHT
TZOFFSETFROM:-0500
TZOFFSETTO:-0400
TZNAME:EDT
DTSTART:20260308T070000
END:DAYLIGHT
BEGIN:STANDARD
TZOFFSETFROM:-0400
TZOFFSETTO:-0500
TZNAME:EST
DTSTART:20261101T060000
END:STANDARD
BEGIN:DAYLIGHT
TZOFFSETFROM:-0500
TZOFFSETTO:-0400
TZNAME:EDT
DTSTART:20270314T070000
END:DAYLIGHT
BEGIN:STANDARD
TZOFFSETFROM:-0400
TZOFFSETTO:-0500
TZNAME:EST
DTSTART:20271107T060000
END:STANDARD
END:VTIMEZONE
BEGIN:VEVENT
DTSTART;TZID=America/New_York:20260328T080000
DTEND;TZID=America/New_York:20260329T170000
DTSTAMP:20260421T072241
CREATED:20260325T185427Z
LAST-MODIFIED:20260325T185454Z
UID:24558-1774684800-1774803600@sassmagazine.com
SUMMARY:Tree Trekkers: Non-Profit Weekend
DESCRIPTION:For one special weekend\, members and employees of non-profit organizations can experience our Timber Trek Adventure for just $25 per ticket!That’s almost $40 in SAVINGS! Frederick grows stronger when we support those who support our community! Thank you for everything you do!You will need to call to book and identify which non-profit you are with. Call 301-888-8735
URL:https://sassmagazine.com/event/tree-trekkers-non-profit-weekend/
LOCATION:Tree Trekkers\, 9560 Old National Pike\, Frederick\, MD\, 21701\, United States
CATEGORIES:In Person Event
ORGANIZER;CN="Tree Trekkers":MAILTO:info@treetrekkersmd.com
END:VEVENT
BEGIN:VEVENT
DTSTART;TZID=America/New_York:20260329T133000
DTEND;TZID=America/New_York:20260329T170000
DTSTAMP:20260421T072241
CREATED:20260318T131255Z
LAST-MODIFIED:20260318T131255Z
UID:24533-1774791000-1774803600@sassmagazine.com
SUMMARY:Drag Bingo Country Legends
DESCRIPTION:DRAG BINGO IS BACK for a legendary afternoon of fun! \n\nThis event was rescheduled from January with a location change as well! Drag Bingo will be happening Sunday\, March 29th. We are excited to play bingo with you and your friends\, witness the very best drag performances from our stellar and fabulous queens! Get the chance to WIN BIG\, while drinking and eating all the Steinhardt Brewing Company has to offer! This is a great way to support your local community center AND enjoy your Sunday. \n\nFEATURED PERFORMANCES BY: Chasity Vain\, Maranda Rights\, and Jalah Nicole with the musical stylings of DJ Capital Chase.\nUp to $2\,800 in cash prizes with door prizes\, pull tabs for instant cash! \nGET TICKETS
URL:https://sassmagazine.com/event/drag-bingo-country-legends/
LOCATION:Steinhardt Brewing Company\, 340 E Patrick St\, Suite 100-102\, Frederick\, MD\, 21701\, United States
CATEGORIES:In Person Event
END:VEVENT
END:VCALENDAR