BEGIN:VCALENDAR
VERSION:2.0
PRODID:-//Sass Magazine - ECPv6.15.18//NONSGML v1.0//EN
CALSCALE:GREGORIAN
METHOD:PUBLISH
X-WR-CALNAME:Sass Magazine
X-ORIGINAL-URL:https://sassmagazine.com
X-WR-CALDESC:Events for Sass Magazine
REFRESH-INTERVAL;VALUE=DURATION:PT1H
X-Robots-Tag:noindex
X-PUBLISHED-TTL:PT1H
BEGIN:VTIMEZONE
TZID:America/New_York
BEGIN:DAYLIGHT
TZOFFSETFROM:-0500
TZOFFSETTO:-0400
TZNAME:EDT
DTSTART:20250309T070000
END:DAYLIGHT
BEGIN:STANDARD
TZOFFSETFROM:-0400
TZOFFSETTO:-0500
TZNAME:EST
DTSTART:20251102T060000
END:STANDARD
BEGIN:DAYLIGHT
TZOFFSETFROM:-0500
TZOFFSETTO:-0400
TZNAME:EDT
DTSTART:20260308T070000
END:DAYLIGHT
BEGIN:STANDARD
TZOFFSETFROM:-0400
TZOFFSETTO:-0500
TZNAME:EST
DTSTART:20261101T060000
END:STANDARD
BEGIN:DAYLIGHT
TZOFFSETFROM:-0500
TZOFFSETTO:-0400
TZNAME:EDT
DTSTART:20270314T070000
END:DAYLIGHT
BEGIN:STANDARD
TZOFFSETFROM:-0400
TZOFFSETTO:-0500
TZNAME:EST
DTSTART:20271107T060000
END:STANDARD
END:VTIMEZONE
BEGIN:VEVENT
DTSTART;TZID=America/New_York:20260417T100000
DTEND;TZID=America/New_York:20260417T180000
DTSTAMP:20260421T073139
CREATED:20260225T130714Z
LAST-MODIFIED:20260225T210434Z
UID:24362-1776420000-1776448800@sassmagazine.com
SUMMARY:The Discover. Design. Connect. Conference
DESCRIPTION:The Discover. Design. Connect. Conference is a curated\, relationship-centered experience for women entrepreneurs and professionals who are ready to grow with intention. \nThis is for the woman who has already built something meaningful\, but knows her next level requires stronger alignment\, deeper collaboration\, and more strategic connection. \nNot louder rooms.Not surface conversations.Not transactional exchanges. \nIntentional relationships that actually move you forward. \nGET TICKETS
URL:https://sassmagazine.com/event/the-discover-design-connect-conference/
LOCATION:Visitation Hotel\, 211 E Church Street\,  Frederick\, MD\, 21701\, United States
CATEGORIES:In Person Event
END:VEVENT
BEGIN:VEVENT
DTSTART;TZID=America/New_York:20260417T200000
DTEND;TZID=America/New_York:20260417T210000
DTSTAMP:20260421T073139
CREATED:20260325T191013Z
LAST-MODIFIED:20260325T191013Z
UID:24563-1776456000-1776459600@sassmagazine.com
SUMMARY:Paula Poundstone
DESCRIPTION:Quick-Witted. Unscripted. Unforgettable.\nIconic comedian Paula Poundstone is known for her smart\, observational humor and spontaneous wit that has become the stuff of legend. She regularly plays theaters across the country\, hosts a weekly comedy podcast\, Nobody Listens to Paula Poundstone\, and is a regular panelist on NPR’s Wait\, Wait… Don’t Tell Me. She also voiced the character ‘Forgetter Paula’ in the feature films Inside Out and Inside Out 2. \nLive on stage\, Poundstone’s shows are a masterclass in improvisation\, packed with razor-sharp insights and hilarious interactions with the audience. Her ability to weave everyday moments into laugh-out-loud stories makes each performance entirely unique. Whether you’re a longtime fan or seeing her for the first time\, you’re in for a night of comedy that’s both brilliant and refreshingly human. Learn more about Paula Poundstone on her official website. \nThis show is part of the Weinberg Center’s LIVE! Series\, celebrating iconic music and exceptional comedy. The Weinberg Center\, located in the heart of Downtown Frederick\, MD\, offers a historic backdrop and excellent acoustics for an unforgettable comedy show experience. \nPlan Your Visit and find information on parking\, accessibility\, and other amenities. For exclusive perks and early access to programming\, consider becoming a member! You can also make a donation to help us ensure that the arts remain accessible and affordable to local and regional audiences alike. \nGET TICKETS
URL:https://sassmagazine.com/event/paula-poundstone/
LOCATION:Weinberg Center for the Arts\, 20 West Patrick St.\, Frederick\, MD\, 21701\, United States
CATEGORIES:In Person Event
END:VEVENT
END:VCALENDAR