BEGIN:VCALENDAR
VERSION:2.0
PRODID:-//Sass Magazine - ECPv6.15.18//NONSGML v1.0//EN
CALSCALE:GREGORIAN
METHOD:PUBLISH
X-ORIGINAL-URL:https://sassmagazine.com
X-WR-CALDESC:Events for Sass Magazine
REFRESH-INTERVAL;VALUE=DURATION:PT1H
X-Robots-Tag:noindex
X-PUBLISHED-TTL:PT1H
BEGIN:VTIMEZONE
TZID:America/New_York
BEGIN:DAYLIGHT
TZOFFSETFROM:-0500
TZOFFSETTO:-0400
TZNAME:EDT
DTSTART:20250309T070000
END:DAYLIGHT
BEGIN:STANDARD
TZOFFSETFROM:-0400
TZOFFSETTO:-0500
TZNAME:EST
DTSTART:20251102T060000
END:STANDARD
BEGIN:DAYLIGHT
TZOFFSETFROM:-0500
TZOFFSETTO:-0400
TZNAME:EDT
DTSTART:20260308T070000
END:DAYLIGHT
BEGIN:STANDARD
TZOFFSETFROM:-0400
TZOFFSETTO:-0500
TZNAME:EST
DTSTART:20261101T060000
END:STANDARD
BEGIN:DAYLIGHT
TZOFFSETFROM:-0500
TZOFFSETTO:-0400
TZNAME:EDT
DTSTART:20270314T070000
END:DAYLIGHT
BEGIN:STANDARD
TZOFFSETFROM:-0400
TZOFFSETTO:-0500
TZNAME:EST
DTSTART:20271107T060000
END:STANDARD
END:VTIMEZONE
BEGIN:VEVENT
DTSTART;VALUE=DATE:20260420
DTEND;VALUE=DATE:20260421
DTSTAMP:20260419T132944
CREATED:20250908T123204Z
LAST-MODIFIED:20250908T123204Z
UID:23261-1776643200-1776729599@sassmagazine.com
SUMMARY:4th International Summit on Gravitation\, Astrophysics and Cosmology
DESCRIPTION:Check out the 4th International Summit on Gravitation\, Astrophysics\, and Cosmology (ISGAC2026)\, taking place from April 20-22\, 2026 in Frankfurt\, Germany. This premier international forum will bring together leading experts to discuss the latest advancements in Gravitation\, Astrophysics\, and Cosmology. \nCome together to celebrate progress and explore new frontiers in gravitational physics and cosmology. \nThe topics covered at ISGAC2026 will include Gravitational Physics and Lensing\, Wave-Particle Duality\, Applied Relativity\, Stellar and Solar Physics\, Alternative Theories of Gravity\, Jet Physics and Neutrino Cosmology. The conference will host distinguished keynote speakers from top universities and industry leaders\, who will share valuable insights and engage in thought-provoking discussions.\nREGISTER TODAY!
URL:https://sassmagazine.com/event/4th-international-summit-on-gravitation-astrophysics-and-cosmology/
LOCATION:Frankfurt\, Germany\, Frankfurt\, Germany
CATEGORIES:In Person Event
END:VEVENT
END:VCALENDAR