BEGIN:VCALENDAR
VERSION:2.0
PRODID:-//Sass Magazine - ECPv6.15.18//NONSGML v1.0//EN
CALSCALE:GREGORIAN
METHOD:PUBLISH
X-ORIGINAL-URL:https://sassmagazine.com
X-WR-CALDESC:Events for Sass Magazine
REFRESH-INTERVAL;VALUE=DURATION:PT1H
X-Robots-Tag:noindex
X-PUBLISHED-TTL:PT1H
BEGIN:VTIMEZONE
TZID:UTC
BEGIN:STANDARD
TZOFFSETFROM:+0000
TZOFFSETTO:+0000
TZNAME:UTC
DTSTART:20220101T000000
END:STANDARD
END:VTIMEZONE
BEGIN:VEVENT
DTSTART;VALUE=DATE:20231118
DTEND;VALUE=DATE:20231120
DTSTAMP:20260421T095751
CREATED:20230929T162119Z
LAST-MODIFIED:20231104T062857Z
UID:18575-1700265600-1700438399@sassmagazine.com
SUMMARY:42nd Annual Valley Craft Network Studio Tour
DESCRIPTION:In the heart of the Middletown and Pleasant Valley area\, you’ll discover the Valley Craft Network (VCN)\, a community of highly skilled artisans united by their passion for art in all its forms. Currently\, there are 15 fine artists in our Network who will showcase their works\, including paintings\, mosaics\, fine woodworks\, pottery\, jewelry\, textiles\, craft ciders\, soaps\, and cheeses. From November 18\, 2023\, to November 19\, 2023\, we invite you to tour our studios and see our creative process up close. As always\, we are excited to share our studios with you and hope you come away with information\, inspiration\, and one-of-a-kind gifts and treasures. \nLEARN MORE
URL:https://sassmagazine.com/event/42nd-annual-valley-craft-network-studio-tour/
LOCATION:MD
CATEGORIES:In Person Event
END:VEVENT
BEGIN:VEVENT
DTSTART;TZID=UTC:20231118T160000
DTEND;TZID=UTC:20231118T210000
DTSTAMP:20260421T095751
CREATED:20231017T162216Z
LAST-MODIFIED:20231017T162216Z
UID:18712-1700323200-1700341200@sassmagazine.com
SUMMARY:Whiskey Wine & Fire Festival
DESCRIPTION:Visit the Maryland State Fairgrounds for the second annual Whiskey Wine & Fire Festival—an All-You-Care-To-Taste sampling of whiskey bars\, elegant wines\, and cocktails. Great Music\, tented food stations\, food trucks\, restaurants\, and bonfires will be available throughout. Relax around the fire gardens and enjoy an inspired take on fire-kissed barbeque\, specialty grilling\, and drink pairings. Enjoy Fire-breathers and artists as they set the night ablaze. Please dress appropriately – the event is outdoors. \nBUY TICKETS
URL:https://sassmagazine.com/event/whiskey-wine-fire-festival/
LOCATION:Maryland State Fairgrounds\, 2200 York Road\, Timonium\, MD\, 21093\, United States
CATEGORIES:In Person Event
END:VEVENT
END:VCALENDAR