BEGIN:VCALENDAR
VERSION:2.0
PRODID:-//Sass Magazine - ECPv6.15.18//NONSGML v1.0//EN
CALSCALE:GREGORIAN
METHOD:PUBLISH
X-WR-CALNAME:Sass Magazine
X-ORIGINAL-URL:https://sassmagazine.com
X-WR-CALDESC:Events for Sass Magazine
REFRESH-INTERVAL;VALUE=DURATION:PT1H
X-Robots-Tag:noindex
X-PUBLISHED-TTL:PT1H
BEGIN:VTIMEZONE
TZID:America/New_York
BEGIN:DAYLIGHT
TZOFFSETFROM:-0500
TZOFFSETTO:-0400
TZNAME:EDT
DTSTART:20240310T070000
END:DAYLIGHT
BEGIN:STANDARD
TZOFFSETFROM:-0400
TZOFFSETTO:-0500
TZNAME:EST
DTSTART:20241103T060000
END:STANDARD
BEGIN:DAYLIGHT
TZOFFSETFROM:-0500
TZOFFSETTO:-0400
TZNAME:EDT
DTSTART:20250309T070000
END:DAYLIGHT
BEGIN:STANDARD
TZOFFSETFROM:-0400
TZOFFSETTO:-0500
TZNAME:EST
DTSTART:20251102T060000
END:STANDARD
BEGIN:DAYLIGHT
TZOFFSETFROM:-0500
TZOFFSETTO:-0400
TZNAME:EDT
DTSTART:20260308T070000
END:DAYLIGHT
BEGIN:STANDARD
TZOFFSETFROM:-0400
TZOFFSETTO:-0500
TZNAME:EST
DTSTART:20261101T060000
END:STANDARD
END:VTIMEZONE
BEGIN:VEVENT
DTSTART;VALUE=DATE:20250614
DTEND;VALUE=DATE:20250615
DTSTAMP:20260424T045401
CREATED:20250523T152152Z
LAST-MODIFIED:20250821T172331Z
UID:22619-1749859200-1749945599@sassmagazine.com
SUMMARY:BIG Cork Vineyards Summer Concert Series: Jimmy Buffet Tribute Band
DESCRIPTION:BIG Cork Vineyards celebrates 10 years of award-winning wine and unforgettable memories with the 2025 Summer Concert Series—a four-part\, all-day music festival running from June through October in the scenic vineyards of Rohrersville\, Maryland. \nThis full-day bash runs from 11:00 AM to 6:00 PM on June 14\, featuring: \n\n\n🎶 Live music from Parrots of the Caribbean (Jimmy Buffet Tribute Band)\, 9 Mile Roots\, and Kelly Bell Band \n\n\n🍷 Wine specials and signature wine-based cocktails \n\n\n🚚 Top-tier food trucks \n\n\n🎉 A vibrant\, festival-like atmosphere \n\n\nThis 21+ only event is a must for music lovers and wine enthusiasts alike. General admission tickets are $37.50 per event\, or save with a Season Pass ($125)—good for entry to all four concerts. \nGET TICKETS NOW
URL:https://sassmagazine.com/event/big-cork-summer-concert-series-jimmy-buffet-tribute/
LOCATION:BIG Cork Vineyards\, 4236 Main St\, Rohrersville\, MD
CATEGORIES:In Person Event
END:VEVENT
BEGIN:VEVENT
DTSTART;TZID=America/New_York:20250614T150000
DTEND;TZID=America/New_York:20250614T200000
DTSTAMP:20260424T045401
CREATED:20250523T151410Z
LAST-MODIFIED:20250523T151410Z
UID:22615-1749913200-1749931200@sassmagazine.com
SUMMARY:Asia on the Creek
DESCRIPTION:The Asian American Center of Frederick invites the community to celebrate the rich heritage of Asia at Asia on the Creek\, a dynamic cultural festival held at the Carroll Creek Outdoor Amphitheater. \nEnjoy a full day of immersive experiences\, including: \n\n\n🌏 Vibrant cultural performances \n\n\n🍜 Authentic Asian cuisine \n\n\n🎨 Interactive family-friendly activities \n\n\n🎶 Live music and traditional entertainment \n\n\nWhether you’re looking to explore new flavors\, enjoy beautiful performances\, or support local multicultural initiatives\, Asia on the Creek offers something for everyone. \nVolunteer opportunities are available — click here to register. \nThis event is free and open to the public. \nLearn more here
URL:https://sassmagazine.com/event/asia-on-the-creek-2/
LOCATION:Carroll Creek Amphitheater\, Frederick\, MD\, 21701\, United States
CATEGORIES:In Person Event
END:VEVENT
END:VCALENDAR