BEGIN:VCALENDAR
VERSION:2.0
PRODID:-//Sass Magazine - ECPv6.15.18//NONSGML v1.0//EN
CALSCALE:GREGORIAN
METHOD:PUBLISH
X-WR-CALNAME:Sass Magazine
X-ORIGINAL-URL:https://sassmagazine.com
X-WR-CALDESC:Events for Sass Magazine
REFRESH-INTERVAL;VALUE=DURATION:PT1H
X-Robots-Tag:noindex
X-PUBLISHED-TTL:PT1H
BEGIN:VTIMEZONE
TZID:America/New_York
BEGIN:DAYLIGHT
TZOFFSETFROM:-0500
TZOFFSETTO:-0400
TZNAME:EDT
DTSTART:20240310T070000
END:DAYLIGHT
BEGIN:STANDARD
TZOFFSETFROM:-0400
TZOFFSETTO:-0500
TZNAME:EST
DTSTART:20241103T060000
END:STANDARD
BEGIN:DAYLIGHT
TZOFFSETFROM:-0500
TZOFFSETTO:-0400
TZNAME:EDT
DTSTART:20250309T070000
END:DAYLIGHT
BEGIN:STANDARD
TZOFFSETFROM:-0400
TZOFFSETTO:-0500
TZNAME:EST
DTSTART:20251102T060000
END:STANDARD
BEGIN:DAYLIGHT
TZOFFSETFROM:-0500
TZOFFSETTO:-0400
TZNAME:EDT
DTSTART:20260308T070000
END:DAYLIGHT
BEGIN:STANDARD
TZOFFSETFROM:-0400
TZOFFSETTO:-0500
TZNAME:EST
DTSTART:20261101T060000
END:STANDARD
END:VTIMEZONE
BEGIN:VEVENT
DTSTART;VALUE=DATE:20250520
DTEND;VALUE=DATE:20250523
DTSTAMP:20260421T092319
CREATED:20250103T172253Z
LAST-MODIFIED:20250103T172253Z
UID:21783-1747699200-1747958399@sassmagazine.com
SUMMARY:Women in Tech Global Conference 2025
DESCRIPTION:The Women in Tech Global Conference 2025 is the sixth edition of the largest virtual-first tech conference dedicated to women\, minorities\, and their allies. Organized by the WomenTech Network\, the conference aims to unite over 100\,000 participants from around the world. The event features live educational and training content\, keynotes\, engaging panels\, breakout rooms\, technical workshops\, and networking opportunities through both virtual and in-person sessions. Key summits include the Chief in Tech Summit\, Key Tech Summit\, Career Growth Summit\, and the Global Impact Summit. \nThis is a virtual-first event with in-person satellite sessions. \nRegister here
URL:https://sassmagazine.com/event/women-in-tech-global-conference-2025/
LOCATION:Virtual
CATEGORIES:Virtual Event
END:VEVENT
BEGIN:VEVENT
DTSTART;TZID=America/New_York:20250520T120000
DTEND;TZID=America/New_York:20250520T130000
DTSTAMP:20260421T092319
CREATED:20250316T220203Z
LAST-MODIFIED:20250316T220236Z
UID:22242-1747742400-1747746000@sassmagazine.com
SUMMARY:Monthly VIP Society Call: Guest Speaker Larry Van Sant: Building a Bullet Proof Business
DESCRIPTION:Join the VIP Society Monthly Call featuring guest speaker Larry Van Sant as he shares insights on Building a Bulletproof Business. With years of experience in business strategy and resilience\, Larry will provide actionable steps to strengthen your business foundation\, overcome challenges\, and create long-term success. Don’t miss this opportunity to learn from an industry expert and connect with like-minded entrepreneurs. \nJoin the VIP Society today!
URL:https://sassmagazine.com/event/monthly-vip-society-call-guest-speaker/
LOCATION:Virtual
CATEGORIES:Virtual Event
END:VEVENT
END:VCALENDAR