BEGIN:VCALENDAR
VERSION:2.0
PRODID:-//Sass Magazine - ECPv6.15.18//NONSGML v1.0//EN
CALSCALE:GREGORIAN
METHOD:PUBLISH
X-ORIGINAL-URL:https://sassmagazine.com
X-WR-CALDESC:Events for Sass Magazine
REFRESH-INTERVAL;VALUE=DURATION:PT1H
X-Robots-Tag:noindex
X-PUBLISHED-TTL:PT1H
BEGIN:VTIMEZONE
TZID:America/New_York
BEGIN:DAYLIGHT
TZOFFSETFROM:-0500
TZOFFSETTO:-0400
TZNAME:EDT
DTSTART:20240310T070000
END:DAYLIGHT
BEGIN:STANDARD
TZOFFSETFROM:-0400
TZOFFSETTO:-0500
TZNAME:EST
DTSTART:20241103T060000
END:STANDARD
BEGIN:DAYLIGHT
TZOFFSETFROM:-0500
TZOFFSETTO:-0400
TZNAME:EDT
DTSTART:20250309T070000
END:DAYLIGHT
BEGIN:STANDARD
TZOFFSETFROM:-0400
TZOFFSETTO:-0500
TZNAME:EST
DTSTART:20251102T060000
END:STANDARD
BEGIN:DAYLIGHT
TZOFFSETFROM:-0500
TZOFFSETTO:-0400
TZNAME:EDT
DTSTART:20260308T070000
END:DAYLIGHT
BEGIN:STANDARD
TZOFFSETFROM:-0400
TZOFFSETTO:-0500
TZNAME:EST
DTSTART:20261101T060000
END:STANDARD
END:VTIMEZONE
BEGIN:VEVENT
DTSTART;TZID=America/New_York:20250528T090000
DTEND;TZID=America/New_York:20250528T120000
DTSTAMP:20260421T061958
CREATED:20250501T123224Z
LAST-MODIFIED:20250501T123224Z
UID:22483-1748422800-1748433600@sassmagazine.com
SUMMARY:Women Business Connect V.I.B.E. Summit 2025
DESCRIPTION:Women Business Connect V.I.B.E. Summit 2025\nVision. Impact. Business. Empowerment.May 28th\, 2025 | Live Virtual Global Event \nThis one-day virtual summit brings together visionary women in business from around the world to grow with purpose\, power\, and community. Hosted by Women Business Connect Global\, the event addresses real challenges faced by women entrepreneurs—like burnout\, lack of visibility\, and disconnected strategies—with a focus on clarity\, collaboration\, and empowerment. \nWhat You’ll Get:\n\n\nActionable workshops + keynotes from 6 global women leaders \n\n\nLive coaching\, panels & strategy sessions \n\n\nDeep networking with like-minded women \n\n\nTools to build sustainable systems & offers \n\n\nA renewed sense of confidence and purpose \n\n\nWhether you’re just starting out or scaling big\, this summit is your chance to get real support\, visibility\, and results. \nRegister now: https://womenbusinessconnectglobal.coPartner with us or reach out: team@womenbusinessconnectonline.com \nCatch the V.I.B.E.—and lead your business your way.
URL:https://sassmagazine.com/event/women-business-connect-v-i-b-e-summit-2025/
LOCATION:Virtual
CATEGORIES:Virtual Event
ORGANIZER;CN="Women Business Connect Global":MAILTO:support@wbenc.org
END:VEVENT
END:VCALENDAR