BEGIN:VCALENDAR
VERSION:2.0
PRODID:-//Sass Magazine - ECPv6.15.18//NONSGML v1.0//EN
CALSCALE:GREGORIAN
METHOD:PUBLISH
X-ORIGINAL-URL:https://sassmagazine.com
X-WR-CALDESC:Events for Sass Magazine
REFRESH-INTERVAL;VALUE=DURATION:PT1H
X-Robots-Tag:noindex
X-PUBLISHED-TTL:PT1H
BEGIN:VTIMEZONE
TZID:America/New_York
BEGIN:DAYLIGHT
TZOFFSETFROM:-0500
TZOFFSETTO:-0400
TZNAME:EDT
DTSTART:20250309T070000
END:DAYLIGHT
BEGIN:STANDARD
TZOFFSETFROM:-0400
TZOFFSETTO:-0500
TZNAME:EST
DTSTART:20251102T060000
END:STANDARD
BEGIN:DAYLIGHT
TZOFFSETFROM:-0500
TZOFFSETTO:-0400
TZNAME:EDT
DTSTART:20260308T070000
END:DAYLIGHT
BEGIN:STANDARD
TZOFFSETFROM:-0400
TZOFFSETTO:-0500
TZNAME:EST
DTSTART:20261101T060000
END:STANDARD
BEGIN:DAYLIGHT
TZOFFSETFROM:-0500
TZOFFSETTO:-0400
TZNAME:EDT
DTSTART:20270314T070000
END:DAYLIGHT
BEGIN:STANDARD
TZOFFSETFROM:-0400
TZOFFSETTO:-0500
TZNAME:EST
DTSTART:20271107T060000
END:STANDARD
END:VTIMEZONE
BEGIN:VEVENT
DTSTART;TZID=America/New_York:20260720T090000
DTEND;TZID=America/New_York:20260721T180000
DTSTAMP:20260421T105858
CREATED:20251104T141528Z
LAST-MODIFIED:20251104T141528Z
UID:23814-1784538000-1784656800@sassmagazine.com
SUMMARY:2ND GLOBAL SUMMIT ON GYNECOLOGY AND WOMENS HEALTH 2026
DESCRIPTION:Greetings from Intelli Global Meetings! \nWe are pleased to invite you to the 2ND GLOBAL SUMMIT ON GYNECOLOGY AND WOMENS HEALTH\, taking place on July 20–21\, 2026\, in Paris\, France \nTheme: “Advancements in Fertility Preservation and Assisted Reproductive Technologies” \nJoin over 300 international professionals\, Gynecologists\, educators\, and researchers for keynote sessions\, presentations\, panel discussions\, and global networking opportunities focused on Advancements in Fertility Preservation and Assisted Reproductive Technologies \nMore about us: https://gynecologyconferences.org/
URL:https://sassmagazine.com/event/summit-on-gynecology-and-womens-health/
LOCATION:Paris\, France\, Paris\, France
ORGANIZER;CN="Intelli Global Meetings":MAILTO:gynecology@globalmeeting.org
END:VEVENT
BEGIN:VEVENT
DTSTART;TZID=America/New_York:20260801T170000
DTEND;TZID=America/New_York:20260801T183000
DTSTAMP:20260421T105858
CREATED:20260305T135019Z
LAST-MODIFIED:20260305T135019Z
UID:24456-1785603600-1785609000@sassmagazine.com
SUMMARY:Petals & Prosecco at The Frederick Floral Bar
DESCRIPTION:August nights + bubbly delights  Petals & Prosecco is back at the Frederick Floral Bar on August 1st from 5–6:30pm at our downtown storefront (27 S. Market St.)! Join us in the heart of Frederick for a golden-hour evening of sipping Prosecco and designing your own lush summer arrangement. It’s the perfect way to kick off the month — girls’ night\, date night\, or a just-because celebration. Fresh blooms\, sparkling sips\, and all the feel-good summer energy. Spots are limited — grab your seat and let’s toast to August in style. \nGET TICKETS
URL:https://sassmagazine.com/event/petals-prosecco-at-the-frederick-floral-bar-5/
LOCATION:The Frederick Floral Bar\, 27 South Market Street\, Frederick\, MD\, 21701\, United States
CATEGORIES:In Person Event
END:VEVENT
BEGIN:VEVENT
DTSTART;TZID=America/New_York:20260817T080000
DTEND;TZID=America/New_York:20260818T170000
DTSTAMP:20260421T105858
CREATED:20251201T135305Z
LAST-MODIFIED:20251201T135922Z
UID:23971-1786953600-1787072400@sassmagazine.com
SUMMARY:3rd Global Summit on Diabetes and Endocrinology
DESCRIPTION:The 3rd Global Summit on Diabetes and Endocrinology (GSDE 2026) welcomes researchers\, clinicians\, endocrinologists\, healthcare professionals\, and academicians from around the world to the beautiful city of Zurich\, Switzerland on August 17–18\, 2026. \nThis premier international event\, organized by Intelli Meetings\, offers a dynamic platform to exchange scientific knowledge\, share clinical experiences\, and explore the latest innovations in diabetes and endocrine research. \nThe summit will feature keynote lectures\, panel discussions\, scientific sessions\, workshops\, poster presentations\, and networking opportunities — fostering collaboration and advancing innovation in global diabetes care and endocrinology. \nFor more: https://diabetes.intelliglobalconferences.com/
URL:https://sassmagazine.com/event/3rd-global-summit-on-diabetes-and-endocrinology/
LOCATION:Zurich\, Switzerland
CATEGORIES:In Person Event
ORGANIZER;CN="Intelli global conferences":MAILTO:nursingeducation@globalmeeting.org
END:VEVENT
BEGIN:VEVENT
DTSTART;TZID=America/New_York:20260817T080000
DTEND;TZID=America/New_York:20260818T170000
DTSTAMP:20260421T105858
CREATED:20260406T154909Z
LAST-MODIFIED:20260406T154909Z
UID:24618-1786953600-1787072400@sassmagazine.com
SUMMARY:6TH GLOBAL SUMMIT ON NURSING EDUCATION AND PUBLIC HEALTH
DESCRIPTION:The 6th Global Summit on Nursing Education and Public Health\, scheduled for August 17–18\, 2026 in Zurich\, Switzerland. The conference theme is “Educating for Impact: Advancing Nursing Practice to Strengthen Public Health.” \nThis global event will bring together nurses\, researchers\, educators\, and public health professionals to share research\, exchange knowledge\, and build international collaborations. \nREGISTER HERE
URL:https://sassmagazine.com/event/6th-global-summit-on-nursing-education-and-public-health/
LOCATION:Zurich\, Switzerland\, Switzerland
CATEGORIES:In Person Event
ORGANIZER;CN="Intelli global conferences":MAILTO:nursingeducation@globalmeeting.org
END:VEVENT
BEGIN:VEVENT
DTSTART;TZID=America/New_York:20260824T090000
DTEND;TZID=America/New_York:20260824T160000
DTSTAMP:20260421T105858
CREATED:20251027T130503Z
LAST-MODIFIED:20251027T130503Z
UID:23657-1787562000-1787587200@sassmagazine.com
SUMMARY:4th Global Summit on Nursing Education and Healthcare
DESCRIPTION:The 4th Global Summit on Nursing Education and Healthcare 2026 will be held on August 24–25\, 2026 in Tokyo\, Japan\, under the theme “Innovations in Nursing Education: Transforming Healthcare Worldwide.” \nHosted by Intelli Meetings\, this premier event invites nurses\, healthcare professionals\, researchers\, and academics from around the world to connect and collaborate. \nWith over 300 international delegates\, the summit will feature keynote speeches\, oral and poster presentations\, and engaging panel discussions. \nThe program will focus on advancing nursing education\, practice\, and global healthcare innovation. \nRegister Now!
URL:https://sassmagazine.com/event/4th-global-summit-on-nursing-education-and-healthcare/
LOCATION:Ana Crowne plaza\, Naritha\, Tokyo\, 100-0000\, Japan\, Naritha\, Tokyo\, Japan
CATEGORIES:In Person Event
ORGANIZER;CN="Intelli global conferences":MAILTO:nursingeducation@globalmeeting.org
END:VEVENT
BEGIN:VEVENT
DTSTART;TZID=America/New_York:20260912T170000
DTEND;TZID=America/New_York:20260912T183000
DTSTAMP:20260421T105858
CREATED:20260305T135243Z
LAST-MODIFIED:20260305T135243Z
UID:24457-1789232400-1789237800@sassmagazine.com
SUMMARY:Petals & Prosecco at The Frederick Floral Bar
DESCRIPTION:Crisp air\, cozy vibes\, and a little sparkle  Join us for Petals & Prosecco at the Frederick Floral Bar on September 12th from 5–6:30pm at our downtown storefront (27 S. Market St.)! We’re welcoming early fall in the heart of Frederick with seasonal blooms\, bubbly pours\, and the dreamiest golden-hour atmosphere. Design your own beautiful arrangement while you sip and unwind — the perfect girls’ night\, date night\, or cozy solo evening. Fresh flowers\, Prosecco\, and all the autumn-leaning magic. Spots are limited — reserve yours and let’s bloom into fall together. \nGET TICKETS
URL:https://sassmagazine.com/event/petals-prosecco-at-the-frederick-floral-bar-6/
LOCATION:The Frederick Floral Bar\, 27 South Market Street\, Frederick\, MD\, 21701\, United States
CATEGORIES:In Person Event
END:VEVENT
BEGIN:VEVENT
DTSTART;TZID=America/New_York:20260914T090000
DTEND;TZID=America/New_York:20260914T180000
DTSTAMP:20260421T105858
CREATED:20251216T134449Z
LAST-MODIFIED:20251216T134449Z
UID:24009-1789376400-1789408800@sassmagazine.com
SUMMARY:5TH INTERNATIONAL CONFERENCE ON NURSING EDUCATION AND RESEARCH 2026
DESCRIPTION:We are pleased to invite you to the 5TH INTERNATIONAL CONFERENCE ON NURSING EDUCATION AND RESEARCH 2026\, taking place on September 14–15\, 2026\, in Tokyo\, Japan \nTheme: “Advancing Nursing Research for a Healthier Tomorrow” \nJoin over 300 international professionals\, Nurses\, educators\, and researchers for keynote sessions\, presentations\, panel discussions\, and global networking opportunities focused on Advancing Nursing Research for a Healthier Tomorrow. \nMore about us: https://nursing.intelliglobalconferences.com/
URL:https://sassmagazine.com/event/5th-international-conference/
LOCATION:tokoyo\, japan\, Minato-Ku\, tokoyo\, 105-8333\, Japan
CATEGORIES:In Person Event
ORGANIZER;CN="Intelli global conferences":MAILTO:nursingeducation@globalmeeting.org
END:VEVENT
BEGIN:VEVENT
DTSTART;TZID=America/New_York:20260916T180000
DTEND;TZID=America/New_York:20260916T193000
DTSTAMP:20260421T105858
CREATED:20260305T141059Z
LAST-MODIFIED:20260305T141059Z
UID:24464-1789581600-1789587000@sassmagazine.com
SUMMARY:Soul Circles - Mindfulness - The Calmfidence Code
DESCRIPTION:How to Take Clear\, Confident Action—Without Forcing\, Faking\, or Burning Out Many women reach midlife wondering why confidence feels harder than it used to—despite their experience\, capability\, and wisdom. The Calmfidence Code offers a powerful reframe. \nThis interactive workshop is designed for women who are tired of overthinking\, second-guessing themselves\, and carrying the weight of outdated expectations. Rather than focusing on “being more confident\,” this experience teaches participants how to start with calm—so confidence can naturally follow.\nIn this workshop\, participants will learn how to: \n\nCalm their nervous system so clarity and confidence become accessible\nRebuild self-trust using real evidence—not positive thinking\nQuiet the inner noise created by old roles\, rules\, and conditioning\nTake calm\, decisive action even when they don’t feel fully ready\n\nParticipants will leave with a simple\, personalized Calmfidence Code they can use in everyday situations—conversations\, decisions\, boundaries\, and transitions—without anxiety running the show. \nThis workshop is ideal for women who are capable and accomplished\, yet ready for a calmer\, more self-directed way to move forward. You will move forward with calmfident sound healing. \nCalmfidence isn’t about becoming someone new.\nIt’s about trusting yourself again—and acting from that place. \nREGISTER HERE
URL:https://sassmagazine.com/event/soul-circles-mindfulness-the-calmfidence-code/
LOCATION:Virtual
CATEGORIES:Virtual Event
ORGANIZER;CN="Wholistic Women Living":MAILTO:info@wholisticwomenliving.com
END:VEVENT
BEGIN:VEVENT
DTSTART;TZID=America/New_York:20261003T170000
DTEND;TZID=America/New_York:20261003T183000
DTSTAMP:20260421T105858
CREATED:20260305T135435Z
LAST-MODIFIED:20260305T135435Z
UID:24458-1791046800-1791052200@sassmagazine.com
SUMMARY:Petals & Prosecco at The Frederick Floral Bar
DESCRIPTION:Moody blooms & bubbly nights  Petals & Prosecco returns to the Frederick Floral Bar on October 3rd from 5–6:30pm at our downtown storefront (27 S. Market St.)! Join us in the heart of Frederick for an autumn-inspired evening of rich seasonal florals and sparkling sips. You’ll design your own stunning arrangement while soaking in all the cozy fall vibes. It’s the perfect October girls’ night\, date night\, or festive fall outing. Seats are limited — grab your spot and let’s sip\, design\, and celebrate the season together. \nGET TICKETS
URL:https://sassmagazine.com/event/petals-prosecco/
LOCATION:The Frederick Floral Bar\, 27 South Market Street\, Frederick\, MD\, 21701\, United States
CATEGORIES:In Person Event
END:VEVENT
BEGIN:VEVENT
DTSTART;TZID=America/New_York:20261019T080000
DTEND;TZID=America/New_York:20261020T170000
DTSTAMP:20260421T105858
CREATED:20260318T131726Z
LAST-MODIFIED:20260318T131726Z
UID:24534-1792396800-1792515600@sassmagazine.com
SUMMARY:25th Global Summit on Nursing Education and Practice (GSNEP 2026)
DESCRIPTION:It is with immense enthusiasm that we invite you to join the 25th Global Summit on Nursing Education and Practice (GSNEP 2026) – a landmark event uniting visionary nursing professionals\, educators\, researchers\, policymakers and healthcare leaders from across the globe. \nSet to take place October 19–20\, 2026 in Los Angeles\, USA and virtually worldwide\, GSNEP 2026 serves as a vibrant platform for innovation\, collaboration and transformation in nursing and healthcare education. \nParticipants will be awarded both CE Credits (accredited by the California Board of Registered Nursing) and CPD Credits.\nWebsite: https://nursingeducationmeetings.com/ \nUnder the compelling theme\, ‘Bridging Education and Practice: Advancing Excellence in Nursing\,’ this summit will explore how education and clinical expertise can converge to redefine the standards of modern nursing. Through the exchange of ideas\, groundbreaking research and practical strategies\, GSNEP 2026 aims to strengthen the global nursing workforce and inspire meaningful\, measurable change in patient care. \nMore than a conference\, GSNEP 2026 is a movement – a space where ideas become initiatives\, knowledge becomes impact and collaboration shapes the future of nursing. Join us in driving excellence\, advancing leadership and celebrating the shared mission of improving health outcomes worldwide. \nREGISTER HERE
URL:https://sassmagazine.com/event/nursing-education-and-practice-gsnep-2026/
LOCATION:Los Angeles\, USA
CATEGORIES:In Person Event,Virtual Event
END:VEVENT
BEGIN:VEVENT
DTSTART;VALUE=DATE:20261105
DTEND;VALUE=DATE:20261106
DTSTAMP:20260421T105858
CREATED:20260107T141456Z
LAST-MODIFIED:20260107T141456Z
UID:24176-1793836800-1793923199@sassmagazine.com
SUMMARY:2026 Pennsylvania Conference for Women
DESCRIPTION:The 2026 Pennsylvania Conference for Women brings together thousands of professionals for a full day of inspiration\, learning\, and connection. The conference features nationally recognized keynote speakers\, moderated conversations and a wide range of breakout sessions focused on leadership\, career growth\, wellbeing and professional development. \nProgramming includes keynote presentations\, interactive learning sessions\, an exhibitor and sponsor hall\, and opportunities for networking throughout the day. Featured speakers for the Pennsylvania Conference for Women have included best-selling authors\, journalists\, performers and thought leaders across industries. Speaker lineup and agenda details for the 2026 conference will be announced closer to the event date. \nIn-person registration includes complimentary access to the virtual National Conference for Women taking place on March 4\, 2026. \n  \nLEARN MORE
URL:https://sassmagazine.com/event/2026-pennsylvania-conference-for-women/
LOCATION:Pennsylvania Convention Center\, 1101 Arch St\, Philadelphia\, Pennsylvania
CATEGORIES:In Person Event,Virtual Event
END:VEVENT
BEGIN:VEVENT
DTSTART;TZID=America/New_York:20261107T080000
DTEND;TZID=America/New_York:20261108T170000
DTSTAMP:20260421T105858
CREATED:20260325T194231Z
LAST-MODIFIED:20260325T194231Z
UID:24572-1794038400-1794157200@sassmagazine.com
SUMMARY:DMV Chocolate & Coffee Festival
DESCRIPTION:Come see why Virginia Living Magazine named this 2025’s Best Festival of Virginia!  \nTake a journey with your senses. Sip coffees from around the world. Taste chocolates of every form for every palate\, handcrafted by caring artisans. Explore other unique vendors with products like teas\, soaps\, candles\, gifts\, and art! Enjoy time with your friends and family as you sample from the many vendors\, learn from the experts\, and shop for something nice to share later. \nSmile for an instagram shot\, get your kids involved in the activities\, and make it a family weekend to remember as we come together to support local businesses! \nGET TICKETS
URL:https://sassmagazine.com/event/dmv-chocolate-coffee-festival/
LOCATION:Adventist HealthCare Fieldhouse\, 18031 Central Park Cir\, Boyds\, MD\, 20841\, United States
CATEGORIES:In Person Event
END:VEVENT
BEGIN:VEVENT
DTSTART;TZID=America/New_York:20261107T170000
DTEND;TZID=America/New_York:20261107T183000
DTSTAMP:20260421T105858
CREATED:20260305T135649Z
LAST-MODIFIED:20260305T135649Z
UID:24459-1794070800-1794076200@sassmagazine.com
SUMMARY:Petals & Prosecco at The Frederick Floral Bar
DESCRIPTION:Join us for Petals & Prosecco at the Frederick Floral Bar on November 7th from 5–6:30pm at our downtown storefront (27 S. Market St.)! We’re leaning into rich autumn tones and pre-holiday sparkle in the heart of Frederick. Sip bubbly\, design your own lush seasonal arrangement\, and enjoy the coziest golden-hour vibes downtown. It’s the perfect pre-Thanksgiving girls’ night\, date night\, or creative escape before the holiday hustle. Spots are limited — reserve yours and let’s bloom into the season together. \nGET TICKETS
URL:https://sassmagazine.com/event/petals-prosecco-at-the-frederick-floral-bar-7/
LOCATION:The Frederick Floral Bar\, 27 South Market Street\, Frederick\, MD\, 21701\, United States
CATEGORIES:In Person Event
END:VEVENT
BEGIN:VEVENT
DTSTART;TZID=America/New_York:20261116T080000
DTEND;TZID=America/New_York:20261117T170000
DTSTAMP:20260421T105858
CREATED:20260220T130229Z
LAST-MODIFIED:20260220T130229Z
UID:24346-1794816000-1794934800@sassmagazine.com
SUMMARY:International Conference On Cardiology 2026
DESCRIPTION:Greetings from Intelli Global Meetings \nWe are pleased to invite you to the International Conference on Cardiology 2026\, taking place on Nov 16-17\, 2026\, in Singapore.\nTheme: “Cardiac Care in the Modern Era: Challenges\, Innovations\, and Collaborations” \nMore about us: https://cardiologyconferences.org/
URL:https://sassmagazine.com/event/international-conference-on-cardiology-2026/
LOCATION:Grand Mercure Singapore Roxy\, Singapore
CATEGORIES:In Person Event
ORGANIZER;CN="Intelli global conferences":MAILTO:nursingeducation@globalmeeting.org
END:VEVENT
BEGIN:VEVENT
DTSTART;VALUE=DATE:20261201
DTEND;VALUE=DATE:20261204
DTSTAMP:20260421T105858
CREATED:20240418T151608Z
LAST-MODIFIED:20260106T213424Z
UID:19889-1796083200-1796342399@sassmagazine.com
SUMMARY:NonProfit POWER
DESCRIPTION:NonProfit POWER is an invitation-only\, hosted summit for leaders in the nonprofit sector. This is a great opportunity to connect\, exchange ideas\, and build relationships with other leaders. \nNonProfit POWER is a free\, all-inclusive experience for qualified attendees. Attend the summit for insights into the latest direct marketing tactics\, peer-to-peer fundraising strategies\, and more! Fill out our Attendee Inquiry Form if you’re interested in attending. \n 
URL:https://sassmagazine.com/event/nonprofit-power/
LOCATION:Hyatt Regency Baltimore\, 300 Light Street\, Baltimore\, MD\, 21202
CATEGORIES:In Person Event
END:VEVENT
BEGIN:VEVENT
DTSTART;TZID=America/New_York:20261201T110000
DTEND;TZID=America/New_York:20261201T130000
DTSTAMP:20260421T105858
CREATED:20260311T162302Z
LAST-MODIFIED:20260317T180932Z
UID:24510-1796122800-1796130000@sassmagazine.com
SUMMARY:Master Class with Sass Burnout\, Boundaries & Redefining Success
DESCRIPTION:Burnout\, Boundaries & Redefining Success: Master Class with Sass feat. Amanda HaddawayVirtual Workshop · Tuesday\, December 1 · 11:00 AM–1:00 PM EST\nMaster Class with Sass is a virtual learning series featuring powerhouse leaders who share practical insights to help you grow your work\, your confidence\, and your impact. \nThis session features Amanda Haddaway\, managing director of HR Answerbox\, presenting The Hollow Hustle: Why Burnout Is Not a Personal Failure and How Women Can Redefine Success. \nBurnout is often treated like a personal weakness\, but for many women in business\, it is the result of unrealistic expectations\, invisible labor and constant overextension. In this workshop\, Amanda will reframe burnout as a systemic issue rather than an individual failure and offer practical strategies women can use right away to protect their energy\, set stronger boundaries\, and redefine success on their own terms. \nYou’ll walk away with:\n\n\nA better understanding of the early signs of burnout in leadership and entrepreneurial roles \n\n\nInsight into how hustle culture and workplace expectations disproportionately affect women \n\n\nA new perspective on burnout as a signal that something needs to shift \n\n\nPractical strategies to manage energy\, not just time\, in demanding professional environments \n\n\nOne actionable change you can make immediately to reduce burnout risk while maintaining performance \n\n\nAbout Amanda HaddawayAmanda Haddaway is a nationally recognized HR consultant\, corporate trainer\, and executive coach with more than 25 years of experience helping organizations solve complex people challenges with clarity and confidence. As the managing director of HR Answerbox\, she works with business owners and leaders to strengthen workplace performance\, build leadership capability\, and create healthier\, more resilient cultures.\nPost-Workshop: Networking session with Discover. Design. Connect.™After the workshop\, DDC™ will host a follow-up discussion to help attendees process what they learned\, talk through implementation\, and connect with other women who may become future collaborators\, referral partners\, or clients.\nGET TICKETS!
URL:https://sassmagazine.com/event/master-class-with-sass-burnout-boundaries-redefining-success/
LOCATION:Virtual
CATEGORIES:Virtual Event
ATTACH;FMTTYPE=image/jpeg:https://sassmagazine.com/wp-content/uploads/2026/03/sass-master-class-general-sq-copy.jpg
END:VEVENT
BEGIN:VEVENT
DTSTART;TZID=America/New_York:20261205T170000
DTEND;TZID=America/New_York:20261205T183000
DTSTAMP:20260421T105858
CREATED:20260305T135837Z
LAST-MODIFIED:20260305T135837Z
UID:24460-1796490000-1796495400@sassmagazine.com
SUMMARY:Petals & Prosecco at The Frederick Floral Bar
DESCRIPTION:Twinkle lights\, winter blooms & bubbly cheer  Petals & Prosecco is feeling extra festive at the Frederick Floral Bar on December 5th from 5–6:30pm at our downtown storefront (27 S. Market St.)! Join us in the heart of Frederick for a cozy holiday-inspired evening of sparkling sips and winter florals. You’ll design your own seasonal arrangement — perfect for gifting or decking your halls. It’s the ultimate holiday girls’ night\, date night\, or festive night out before the December rush. Seats are limited — grab yours and let’s sip\, design\, and celebrate the season together. \nGET TICKETS
URL:https://sassmagazine.com/event/petals-prosecco-at-the-frederick-floral-bar-8/
LOCATION:The Frederick Floral Bar\, 27 South Market Street\, Frederick\, MD\, 21701\, United States
CATEGORIES:In Person Event
END:VEVENT
END:VCALENDAR