BEGIN:VCALENDAR
VERSION:2.0
PRODID:-//Sass Magazine - ECPv6.15.18//NONSGML v1.0//EN
CALSCALE:GREGORIAN
METHOD:PUBLISH
X-ORIGINAL-URL:https://sassmagazine.com
X-WR-CALDESC:Events for Sass Magazine
REFRESH-INTERVAL;VALUE=DURATION:PT1H
X-Robots-Tag:noindex
X-PUBLISHED-TTL:PT1H
BEGIN:VTIMEZONE
TZID:UTC
BEGIN:STANDARD
TZOFFSETFROM:+0000
TZOFFSETTO:+0000
TZNAME:UTC
DTSTART:20230101T000000
END:STANDARD
END:VTIMEZONE
BEGIN:VEVENT
DTSTART;VALUE=DATE:20240317
DTEND;VALUE=DATE:20240321
DTSTAMP:20260421T190226
CREATED:20240105T192252Z
LAST-MODIFIED:20240105T192252Z
UID:20212-1710633600-1710979199@sassmagazine.com
SUMMARY:Altitude Summit Palm Springs
DESCRIPTION:Long before Alison Faulkner of The Alison Show was hosting sold-out branding workshops and award-winning podcasts she came to Alt Summit to learn about social media and to connect with new friends. \nYou’ve probably heard the story of Twitter breaking through and making it big at SXSW. What you might not know\, is that Pinterest made the scene because of a conference as well. And that conference is Alt Summit. Before Pinterest had a multi-billion dollar valuation\, Ben Silbermann\, the founder\, attended our conference in the hopes of meeting beta testers for his new little website. And he found them. \nAnd did you know that 85% of Alt Summit attendees have come back more than once? Maybe even more compelling is the fact that many of the most successful people in our industry don’t like to miss a single Alt Summit \n  \nREGISTER HERE
URL:https://sassmagazine.com/event/altitude-summit-palm-springs/
CATEGORIES:In Person Event
END:VEVENT
BEGIN:VEVENT
DTSTART;TZID=UTC:20240317T140000
DTEND;TZID=UTC:20240317T163000
DTSTAMP:20260421T190226
CREATED:20231215T192039Z
LAST-MODIFIED:20231215T192039Z
UID:19002-1710684000-1710693000@sassmagazine.com
SUMMARY:Women of Cold War Washington Walking Tour
DESCRIPTION:An ill-fated artist\, an Ambassador’s wife\, a Baroness\, and the most powerful woman in journalism…..What do they all have in common? They were part of the most exclusive club of power-players in Cold War DC. These amazing women made their mark in a man’s world using every tool at their disposal. \nThe tour runs approximately 2 – 2.5 hours. Tickets are $25 for adults\, $15 for children. The tour is in the Georgetown neighborhood\, begins at Thomas Sweet Shop at 3214 P Street NW DC\, and ends at Oak Hill Cemetery at 3001 R Street NW. There is a halfway stop at the iconic Martin’s Tavern for a restroom break and optional refreshments (not included in the ticket price). 1st Sunday of the Month at 2 pm.
URL:https://sassmagazine.com/event/women-of-cold-war-washington-walking-tour/
CATEGORIES:In Person Event
END:VEVENT
BEGIN:VEVENT
DTSTART;TZID=UTC:20240317T190000
DTEND;TZID=UTC:20240317T210000
DTSTAMP:20260421T190226
CREATED:20240304T015327Z
LAST-MODIFIED:20240304T015327Z
UID:19593-1710702000-1710709200@sassmagazine.com
SUMMARY:The Book Club Play
DESCRIPTION:Popular DC-based playwright Karen Zacarías’ Helen Hayes Award-winning comedy is neatly bound by equal parts humor and charm. This hilarious play follows Ana and her friends whose book club becomes the subject of a legendary documentarian. All appears to be going as planned until an unexpected new member throws the group’s dynamics into chaos. The Book Club Play is a playful testament to the power of literature and its ability to bring people together. By the end\, you’ll feel like you’re a member of the book club yourself! \nGET TICKETS
URL:https://sassmagazine.com/event/the-book-club-play/
LOCATION:Everyman Theatre\, 315 W Fayette St\, Baltimore\, MD\, 21201\, United States
CATEGORIES:In Person Event
END:VEVENT
BEGIN:VEVENT
DTSTART;VALUE=DATE:20240319
DTEND;VALUE=DATE:20240323
DTSTAMP:20260421T190226
CREATED:20240104T192525Z
LAST-MODIFIED:20240104T192525Z
UID:20208-1710806400-1711151999@sassmagazine.com
SUMMARY:2024 WBENC National Conference
DESCRIPTION:In 2024\, be a part of the LARGEST CONFERENCE EVER for women-owned businesses. Connect\, learn\, and grow as you join thousands of inspiring members from our vibrant network\, coming together for an unforgettable event! We’re cranking up the energy with our empowering theme\, AMPLIFY! It’s a call to action for women entrepreneurs\, Fortune 500 advocates\, and the WBENC network to band together and share stories\, expertise\, and achievements to foster growth and connection. \nREGISTER HERE
URL:https://sassmagazine.com/event/2024-wbenc-national-conference/
LOCATION:Green Living
CATEGORIES:In Person Event
END:VEVENT
BEGIN:VEVENT
DTSTART;TZID=UTC:20240319T180000
DTEND;TZID=UTC:20240319T200000
DTSTAMP:20260421T190226
CREATED:20240223T175759Z
LAST-MODIFIED:20240223T175759Z
UID:19544-1710871200-1710878400@sassmagazine.com
SUMMARY:Charcuterie and Brew
DESCRIPTION:Come for a fun evening of Charcuterie & Brew ! Build your own board\, sample some brew and have fun with us. We’ll finish just in time for you to enjoy your delicious board for dinner . \nJoin Love Boards for a one-one hands-on workshop where you will learn how to craft a gorgeous cheese and charcuterie board that will wow your friends\, family at your next gathering! \nDuring the workshop\, you will learn how to style and arrange a beautiful\, well balanced charcuterie board\, learn new cheese cutting and styling techniques\, build a prosciutto fan and construct the ever-popular salami rose! \n  \nGET TICKETS
URL:https://sassmagazine.com/event/charcuterie-and-brew/
CATEGORIES:In Person Event
END:VEVENT
BEGIN:VEVENT
DTSTART;VALUE=DATE:20240320
DTEND;VALUE=DATE:20240327
DTSTAMP:20260421T190226
CREATED:20240111T180829Z
LAST-MODIFIED:20240111T180829Z
UID:19204-1710892800-1711497599@sassmagazine.com
SUMMARY:Frederick Restaurant Week
DESCRIPTION:This year’s Frederick Restaurant Week features unique and fine dining options available in Downtown Frederick and throughout Frederick County. Enjoy this celebration of Frederick’s culinary landscape. Visit an old favorite or try something new\, Frederick is full of delicious dining options! \n  \nMORE INFO HERE
URL:https://sassmagazine.com/event/frederick-restaurant-week/
LOCATION:Downtown Frederick
CATEGORIES:In Person Event
END:VEVENT
BEGIN:VEVENT
DTSTART;VALUE=DATE:20240321
DTEND;VALUE=DATE:20240324
DTSTAMP:20260421T190226
CREATED:20240306T193208Z
LAST-MODIFIED:20240306T193208Z
UID:19658-1710979200-1711238399@sassmagazine.com
SUMMARY:Wedding Band Weekend
DESCRIPTION:Join us for Wedding Band Weekend at Colonial Jewelers! \nEnjoy the very BEST selection of Diamond and precious metal wedding and anniversary bands at the BEST pricing of the year! INTEREST FREE financing options available (6 and 12 month Interest Free for those who qualitfy). From gold and diamond to contemporary metals and more. \nBOOK APPOINTMENT HERE
URL:https://sassmagazine.com/event/wedding-band-weekend/
LOCATION:Colonial Jewelers\, 1 S Market St\, Frederick\, MD\, 21701\, United States
CATEGORIES:In Person Event
END:VEVENT
BEGIN:VEVENT
DTSTART;TZID=UTC:20240321T193000
DTEND;TZID=UTC:20240321T193000
DTSTAMP:20260421T190226
CREATED:20231222T185251Z
LAST-MODIFIED:20231222T185251Z
UID:19055-1711049400-1711049400@sassmagazine.com
SUMMARY:The 2024 Frederick Speaker Series - James Comey
DESCRIPTION:After leading the FBI through unprecedented times\, former Director James Comey shares how his moral compass guided his decision-making and issues a clarion call for ethical leadership—no matter the circumstance. \nDuring his time at the Department of Justice\, Comey confronted new threats against Americans at home and abroad\, prosecuting terrorists and helping to shape the debates on the collection of information and the detention of enemy combatants in the aftermath of September 11\, 2001. \nWhen domestic and international forces sought to discredit the values that Americans treasure most\, Comey was determined to lead in a way that reflected—and protected—the best of who we are as a nation. In sharing how he confronted the attempts to challenge what we hold dear\, Comey will help audiences navigate ethical dilemmas when the road ahead has yet to be charted. \nGET TICKETS
URL:https://sassmagazine.com/event/the-2024-frederick-speaker-series-james-comey/
LOCATION:Weinberg Center for the Arts\, 20 West Patrick St.\, Frederick\, MD\, 21701\, United States
CATEGORIES:In Person Event
END:VEVENT
BEGIN:VEVENT
DTSTART;TZID=UTC:20240322T180000
DTEND;TZID=UTC:20240322T220000
DTSTAMP:20260421T190226
CREATED:20231222T175429Z
LAST-MODIFIED:20231222T175429Z
UID:19045-1711130400-1711144800@sassmagazine.com
SUMMARY:Beer\, Bourbon\, & BBQ – Timonium
DESCRIPTION:Join us at the Maryland State Fairgrounds for a weekend of fun times and good eats. General admission includes unlimited beer and bourbon tasting. Upgrade to VIP for an exclusive tasting experience including a barbeque platter AND unlimited beer and bourbon tasting. Enjoy live entertainment the entire festival. \n  \nGET TICKETS
URL:https://sassmagazine.com/event/beer-bourbon-bbq-timonium/
LOCATION:Empowerment Dropdown menu
CATEGORIES:In Person Event
END:VEVENT
BEGIN:VEVENT
DTSTART;VALUE=DATE:20240323
DTEND;VALUE=DATE:20240325
DTSTAMP:20260421T190226
CREATED:20240304T021012Z
LAST-MODIFIED:20240304T021012Z
UID:19596-1711152000-1711324799@sassmagazine.com
SUMMARY:Tree Trekkers Non-Profit Weekend
DESCRIPTION:Tree Trekkers is excited to host our 2nd annual Non-Profit Weekend on March 23rd and 24th.  This weekend only we are offering a special discounted rate of $25 per ticket for Non-Profit groups\, non-profit employees and their families. Our hope is to make Tree Trekkers accessible to non-profits working with underserved youth. \nThere are 2 ways to book tickets.  You can book tickets as a group through our website form\n\nOr you can book tickets individually over the phone: 301-888-8735. We will ask for the name of the non-profit you work for and a tax id number.
URL:https://sassmagazine.com/event/cc/
LOCATION:Tree Trekkers\, 9560 Old National Pike\, Frederick\, MD\, 21701\, United States
CATEGORIES:In Person Event
END:VEVENT
BEGIN:VEVENT
DTSTART;TZID=UTC:20240323T120000
DTEND;TZID=UTC:20240323T170000
DTSTAMP:20260421T190226
CREATED:20240321T173409Z
LAST-MODIFIED:20240321T173409Z
UID:19746-1711195200-1711213200@sassmagazine.com
SUMMARY:Light of Day
DESCRIPTION:With the arrival of spring\, four women artists are brought together in the exhibition\, 𝗟𝗶𝗴𝗵𝘁 𝗼𝗳 𝗗𝗮𝘆. Painters Carol Cowie\, Jane Knighton\, Karen Winston-Levin\, and Deborah Lovelace Richardson will show their latest works in our Main & Porch galleries through March 31. \nOpen Fridays 4-7PM\, on Saturdays & Sundays from Noon-5PM \nMORE INFO HERE \n  \n 
URL:https://sassmagazine.com/event/light-of-day/
LOCATION:GALLERY 322\, 322 N Market St\, Frederick\, MD\, 21701\, United States
CATEGORIES:In Person Event
END:VEVENT
BEGIN:VEVENT
DTSTART;VALUE=DATE:20240327
DTEND;VALUE=DATE:20240331
DTSTAMP:20260421T190226
CREATED:20240105T191101Z
LAST-MODIFIED:20240105T191101Z
UID:20211-1711497600-1711843199@sassmagazine.com
SUMMARY:Women of Power Summit 2024
DESCRIPTION:The premier professional development gathering for executive women of color since 2006\, the Women of Power Summit offers four days of unparalleled inspiration\, connection\, and empowerment. Reflect on your past accomplishments\, feel risen from the inspiration of other women\, and acquire the strategies to take action of your career life. \nREGISTER HERE \n 
URL:https://sassmagazine.com/event/women-of-power-summit-2024/
LOCATION:Style
CATEGORIES:In Person Event
END:VEVENT
BEGIN:VEVENT
DTSTART;TZID=UTC:20240330T120000
DTEND;TZID=UTC:20240330T160000
DTSTAMP:20260421T190226
CREATED:20240117T003633Z
LAST-MODIFIED:20240117T003633Z
UID:19274-1711800000-1711814400@sassmagazine.com
SUMMARY:Women's History Month Celebration: Makers Market
DESCRIPTION:Join us at Olde Mother Brewing Saturday\, March 30th from 12-4. Shop some of the Frederick areas ✨best✨ Woman Owned Local Vendors! @todyefor.and.more curated this star-studded line-up just for you! From Self Care\, clothing\, houseware\, accessories\, and more—we’ve got you covered! \nBeer & more served by @oldemotherbrewing & delicious eats by @eatfiftyfifty. \nEntry is free and parking is available at the shared lot across the street at Gravel and Grind + Street parking on North Market\, East 6th Street\, & West 6th Street.
URL:https://sassmagazine.com/event/womens-history-month-celebration-makers-market/
CATEGORIES:In Person Event
END:VEVENT
BEGIN:VEVENT
DTSTART;VALUE=DATE:20240403
DTEND;VALUE=DATE:20240411
DTSTAMP:20260421T190226
CREATED:20240119T203222Z
LAST-MODIFIED:20240119T203222Z
UID:20227-1712102400-1712793599@sassmagazine.com
SUMMARY:Female Founder Retreat
DESCRIPTION:Give yourself the space and time for expansion. Come together in beautiful Barbados for a week of connection with fellow female founders to relax\, recharge\, and reinvigorate the spark in your business.\nWe’ll do lots of business sessions\, planning\, and strategizing\, along with enjoying ourselves\, having fun in the sun\, pamper sessions\, and oh yeah\, a personal chef making all our meals. \nAPPLY HERE
URL:https://sassmagazine.com/event/female-founder-retreat/
CATEGORIES:In Person Event
END:VEVENT
BEGIN:VEVENT
DTSTART;VALUE=DATE:20240403
DTEND;VALUE=DATE:20240429
DTSTAMP:20260421T190226
CREATED:20240319T152221Z
LAST-MODIFIED:20240319T152221Z
UID:19718-1712102400-1714348799@sassmagazine.com
SUMMARY:DISTRICT Arts Presents “DREAMS”\, a Juried Themed Exhibition
DESCRIPTION:Almost everyone dreams – happy\, sad or scary\, representative\, abstract or surreal. We will be showcasing the translation of the ethereal nature of dreams into tangible works of art. The original creations of 28 artists were selected by independent juror Rhonda Smith. \nThe exhibition is on view from April 3 through April 28 and is free and open to the public. The opening reception is Saturday\, April 6 from 5 to 7 PM \nMORE INFO HERE\n\n\n\n 
URL:https://sassmagazine.com/event/district-arts-presents-dreams-a-juried-themed-exhibition/
LOCATION:District Arts\, 15 North Market Street\, Frederick\, MD\, United States
CATEGORIES:In Person Event
END:VEVENT
BEGIN:VEVENT
DTSTART;VALUE=DATE:20240404
DTEND;VALUE=DATE:20240409
DTSTAMP:20260421T190226
CREATED:20240111T183420Z
LAST-MODIFIED:20240924T200238Z
UID:19209-1712188800-1712620799@sassmagazine.com
SUMMARY:Sedona Goddess Retreat 2024
DESCRIPTION:Calling All Babes Who Are Ready to Experience Sedona! This is more than a retreat\, this is what your soul has been calling for! \n💃 Are you craving to do a fun girls trip? \n🤩 Does the thought of exploring Sedona and tapping into vortex energy excite you? \n👯‍♀️ Are you feeling the pull to do something out of your comfort zone like go on a weekend retreat? \n🌲 Are you feeling called to step into nature and disconnect from your daily routine at home? \n🌀Have you been in the ebbs and flows of searching for purpose in your life\, career\, relationships\, and with your inner goddess? \n💎 Are you wanting to learn more about crystals\, energy\, frequencies and open up your chakras? \n👯‍♀️ Does the thought of hanging out with and experiences Sedona with other like-minded women excite you? \nThen The Maniscripting Goddess Retreat is for you! \nAPPLY HERE
URL:https://sassmagazine.com/event/sedona-goddess-retreat-2024/
CATEGORIES:In Person Event
END:VEVENT
BEGIN:VEVENT
DTSTART;TZID=UTC:20240404T100000
DTEND;TZID=UTC:20240404T170000
DTSTAMP:20260421T190226
CREATED:20231215T180957Z
LAST-MODIFIED:20231215T180957Z
UID:18991-1712224800-1712250000@sassmagazine.com
SUMMARY:Small Business Expo-Washington DC
DESCRIPTION:Small Business Expo is Washington\, D.C.’s BIGGEST business networking & educational event for Small Business Owners & Entrepreneurs. Come join other passionate Washington\, D.C. Business Owners and learn how to increase revenue & grow your business. \n  \nREGISTER HERE
URL:https://sassmagazine.com/event/small-business-expo-washington-dc/
LOCATION:Charles E. Smith Center\, 600 22nd St NW\, Washington\, DC\, 20052\, United States
CATEGORIES:In Person Event
END:VEVENT
BEGIN:VEVENT
DTSTART;VALUE=DATE:20240406
DTEND;VALUE=DATE:20240408
DTSTAMP:20260421T190226
CREATED:20240220T022243Z
LAST-MODIFIED:20240220T022243Z
UID:19513-1712361600-1712534399@sassmagazine.com
SUMMARY:Paws N Pints Pop-Up & Maker's Market
DESCRIPTION:To Dye For & Laceleaf Pet Services are hosting a Paws n Pints Pop-Up Shop & Maker’s Market at Harper’s Ferry Brewing on April 6 and 7th. Come out and support local rescues\, meet adorable pets looking for forever homes\, and enjoy a day of shopping and sipping. It’s a can’t-miss event for a pawsitively good cause! \n  \nMORE INFO HERE \n 
URL:https://sassmagazine.com/event/paws-n-pints-pop-up-makers-market/
LOCATION:Harpers Ferry Brewery\, 37412 Adventure Center Ln\, Purceville\, VA\, 20132\, United States
CATEGORIES:In Person Event
END:VEVENT
BEGIN:VEVENT
DTSTART;TZID=UTC:20240406T120000
DTEND;TZID=UTC:20240406T170000
DTSTAMP:20260421T190226
CREATED:20240328T161305Z
LAST-MODIFIED:20240328T161305Z
UID:19784-1712404800-1712422800@sassmagazine.com
SUMMARY:Self-Care Blooms Here: Pop-Up Shop!
DESCRIPTION:Join us for a day of pampering\, shopping\, and unique experiences! We’ll celebrate self-care\, spotlighting incredible women-owned businesses that will elevate your spirits and nourish your soul. \nThis is not your typical pop-up shop! We are also bringing the vibes with memorable experiences. Enjoy  Lifestyle Mini Portraits by Goode Visions Photography\, a FREE Journaling + Breathwork Meditation Workshop by Fully Bloomed\, a FREE Self-Care Luxury Picnic Experience by Picnics by Peace\, Create your own floral bouquet at our Bloom Bar\, Take an Aura Photography snapshot\, and even experience a FREE lash strip station by Bravos Beauty! (Please note that these experiences are limited\, so early arrival is highly recommended!). This is a shopping experience like no other\, designed with your wellness and high vibes in mind. \nRESERVE A SPOT HERE \n 
URL:https://sassmagazine.com/event/self-care-blooms-here-pop-up-shop/
LOCATION:The Exhilaration Space\, 12358 Parklawn Drive #354 North\, Bethesda\, MD\, 20852\, United States
CATEGORIES:In Person Event
END:VEVENT
BEGIN:VEVENT
DTSTART;TZID=UTC:20240409T123000
DTEND;TZID=UTC:20240409T140000
DTSTAMP:20260421T190226
CREATED:20240320T183246Z
LAST-MODIFIED:20240320T183246Z
UID:19733-1712665800-1712671200@sassmagazine.com
SUMMARY:April Sass Afternoon VIP Mastermind Session
DESCRIPTION:April Sass Afternoon VIP Mastermind Session is for our exclusive Sass VIP Society members. \nVIPs should refer to VIP page for Zoom link. \nInterested in being a VIP? Learn more.
URL:https://sassmagazine.com/event/april-sass-afternoon-vip-mastermind-session/
END:VEVENT
BEGIN:VEVENT
DTSTART;TZID=UTC:20240413T110000
DTEND;TZID=UTC:20240413T130000
DTSTAMP:20260421T190226
CREATED:20240229T200302Z
LAST-MODIFIED:20240924T193831Z
UID:19576-1713006000-1713013200@sassmagazine.com
SUMMARY:Sass Boss Brunch 2024
DESCRIPTION:Come mix and mingle with some amazing boss babes with our Boss Brunch on Saturday\, April 13th at Brewers Alley in Downtown Frederick. \nYour event ticket includes: \n\nBrunch Meal\nYour First Mimosa (or non-alcoholic beverage)\nSass Swag Bag\nSmall Group Networking Opportunity with other Female-Owned Business\nAttendee contact list for networking after the event\nSpace to share your business marketing materials\nA hive mind of other business savvy women to discuss life’s greatest problems and ask all the questions you’ve been keeping\n\nPlus\, you will be able to walk out the door with a whole bunch of new gal pals and business besties! \n  \nDon’t miss out on grabbing your ticket. We already know this event will SELL OUT <3 \nCan’t wait to see you there! \nGET TICKETS\nWant a discount on all your Sass event tickets? Subscribe now for only $5 a month! \n 
URL:https://sassmagazine.com/event/boss-brunch/
LOCATION:Brewers Alley\, 124 N Market St\, Frederick\, MD\, 21701\, United States
CATEGORIES:In Person Event
ATTACH;FMTTYPE=image/jpeg:https://sassmagazine.com/wp-content/uploads/2023/03/bossbrunch-header.jpg
END:VEVENT
BEGIN:VEVENT
DTSTART;TZID=UTC:20240413T180000
DTEND;TZID=UTC:20240413T180000
DTSTAMP:20260421T190226
CREATED:20240111T184247Z
LAST-MODIFIED:20240111T184247Z
UID:20217-1713031200-1713031200@sassmagazine.com
SUMMARY:Catoctin Affair
DESCRIPTION:We are excited to continue to Shine a Spotlight on Mental Health at the 26th Annual Catoctin Affair\, Frederick’s highly regarded fundraiser.  A night where the community comes together to raise awareness and resources to support the critical work MHA does each and every day. Thank you to our community for your advocacy and support of mental health! \nJoin us for an elegant night of culinary excellence\, a complimentary bar\, an inspiring program highlighting our 14 programs\, a live auction with a live appeal followed by dancing. Proceeds from this annual event benefit the Mental Health Association of Frederick County’s vital programs that are essential to the day to day operations of our lifesaving organization. \n  \nMORE INFO HERE
URL:https://sassmagazine.com/event/catoctin-affair/
LOCATION:Frederick Fairgrounds\, 797 E Patrick St\, Frederick\, MD\, 21701\, United States
CATEGORIES:In Person Event
END:VEVENT
BEGIN:VEVENT
DTSTART;TZID=UTC:20240413T180000
DTEND;TZID=UTC:20240413T210000
DTSTAMP:20260421T190226
CREATED:20240317T210632Z
LAST-MODIFIED:20260126T004545Z
UID:19710-1713031200-1713042000@sassmagazine.com
SUMMARY:Swiftie-oke: Taylor Swift inspired Karaoke Fundraiser Night
DESCRIPTION:Join us for an evening of music\, fun\, and philanthropy at the Taylor Swift Karaoke Fundraiser Night! Hosted at the beautiful Dream Free Art Studio and sponsored by C&C Rage Factory\, this event aims to raise funds for the FCYAA Jr. Cadets Cheerleading team. \n\n\n\nCome dressed to impress in your favorite Taylor Swift-inspired era outfit or cheerleading attire!\nLet’s come together as a community to support our young cheerleaders and make a difference! Are you Ready for it…?\n\n\n\nGET TICKETS
URL:https://sassmagazine.com/event/swiftie-oke-taylor-swift-inspired-karaoke-fundraiser-night/
LOCATION:Dream Free Art\, 1341 Hughes Ford Rd Suite 111\, Frederick\, MD\, 21701\, United States
CATEGORIES:In Person Event
END:VEVENT
BEGIN:VEVENT
DTSTART;VALUE=DATE:20240415
DTEND;VALUE=DATE:20240417
DTSTAMP:20260421T190226
CREATED:20231222T190809Z
LAST-MODIFIED:20231222T190809Z
UID:19057-1713139200-1713311999@sassmagazine.com
SUMMARY:Leesburg Flower & Garden Festival
DESCRIPTION:The Flower and Garden Festival has become an annual rite of spring for Loudoun County and it’s not hard to see why. The downtown festival boasts 125+ vendors including landscapers\, gardening suppliers\, plant sellers\, outdoor living businesses\, furniture makers\, and more. \nThe celebration also features music\, entertainment\, activities for the kids\, a rooftop beer garden\, and delicious food. It is not to be missed! \nThe festival is produced by the Town of Leesburg\, with efforts from many different departments\, including Parks and Recreation\, Public Works\, Leesburg Police\, and Leesburg Utilities. \nThis year marks the festival’s 33rd anniversary! We hope you’ll join us to celebrate! \nMORE INFO HERE
URL:https://sassmagazine.com/event/leesburg-flower-garden-festival/
LOCATION:Current Issue Box
CATEGORIES:In Person Event
END:VEVENT
BEGIN:VEVENT
DTSTART;VALUE=DATE:20240418
DTEND;VALUE=DATE:20240420
DTSTAMP:20260421T190226
CREATED:20240201T173803Z
LAST-MODIFIED:20260126T005520Z
UID:19418-1713398400-1713571199@sassmagazine.com
SUMMARY:The View From the E-Suite Women’s Professional Empowerment Symposium
DESCRIPTION:The View From the E-Suite is more than just a symposium; it’s an opportunity for women at the middle management level or higher to reclaim control of their careers\, whether through advancement\, transition\, or entrepreneurship. This Empowerment Symposium is crafted to provide you with the tools and inspiration needed to boost satisfaction and engagement in your professional journey. \n\n\n\n\n\nWHAT’S IN STORE \n\n\n\n\n\n\n\nInspiring opening and closing plenaries.\nEngaging senior leader lunch discussions.\nInteractive workshops\, customized to the ladies in the room.\nNetworking opportunities with like-minded professionals.\nTailored breakout tracks for Career-women at different levels AND entrepreneurs at different stages.\nProfessional Empowerment Suite featuring laser coaching\, consulting services\, and more.\nExhibitor Hall showcasing sponsors and facilitating on-site networking.\n\n\n\n\n\n\nREGISTER HERE
URL:https://sassmagazine.com/event/the-view-from-the-e-suite-womens-professional-empowerment-symposium/
CATEGORIES:In Person Event,Virtual Event
END:VEVENT
BEGIN:VEVENT
DTSTART;TZID=UTC:20240418T193000
DTEND;TZID=UTC:20240418T193000
DTSTAMP:20260421T190226
CREATED:20231222T185752Z
LAST-MODIFIED:20231222T185752Z
UID:19056-1713468600-1713468600@sassmagazine.com
SUMMARY:The 2024 Frederick Speaker Series - Chuck D
DESCRIPTION:Chuck D is the leader and co-founder of the legendary rap group Public Enemy\, the author of two critically acclaimed books\, and a political activist\, publisher\, radio host\, and producer. He has been featured on\, or interviewed in\, over fifty documentaries on music\, technology\, politics\, and race as well as appearing in numerous public service announcements for national peace and the Partnership for a Drug-Free America. Chuck D has also been a national spokesperson for Rock the Vote\, the National Urban League\, Americans for the Arts Council\, and the National Alliance for African-American Athletes.\n\n\nThere are few artists who possess such sophisticated understandings of the music business\, entertainment industry\, and racial politics in America\, and few speakers who can command an audience like Chuck D.\n\nGET TICKETS
URL:https://sassmagazine.com/event/the-2024-frederick-speaker-series-chuck-d/
LOCATION:Weinberg Center for the Arts\, 20 West Patrick St.\, Frederick\, MD\, 21701\, United States
CATEGORIES:In Person Event
END:VEVENT
BEGIN:VEVENT
DTSTART;TZID=UTC:20240420T100000
DTEND;TZID=UTC:20240420T170000
DTSTAMP:20260421T190226
CREATED:20240328T151933Z
LAST-MODIFIED:20240328T151933Z
UID:19783-1713607200-1713632400@sassmagazine.com
SUMMARY:Diamond Days SALE
DESCRIPTION:Join us in our downtown Frederick showroom starting April 20th – 27th and SAVE BIG on our finest selection of beautiful\, rare\, hand-selected Diamonds! All Diamond jewelry is ON SALE for one week only. \nDiamond Engagement Rings\, Wedding Bands\, Anniversary Bands\, Tennis Bracelets\, Diamond Studs and Fashion Jewelry galore! \nInterest-Free Financing Options Available! \nMORE INFO HERE \n 
URL:https://sassmagazine.com/event/diamond-days-sale/
LOCATION:Colonial Jewelers\, 1 S Market St\, Frederick\, MD\, 21701\, United States
CATEGORIES:In Person Event
END:VEVENT
BEGIN:VEVENT
DTSTART;TZID=UTC:20240423T190000
DTEND;TZID=UTC:20240423T203000
DTSTAMP:20260421T190226
CREATED:20240308T000534Z
LAST-MODIFIED:20240308T000534Z
UID:19661-1713898800-1713904200@sassmagazine.com
SUMMARY:April Sass Evening VIP Mastermind Session
DESCRIPTION:April Sass VIP Mastermind Session is for our exclusive Sass VIP Society members. \nVIPs should refer to VIP page for Zoom link. \nInterested in being a VIP? Learn more. \n 
URL:https://sassmagazine.com/event/march-sass-evening-vip-mastermind-session/
CATEGORIES:Girls Night Out,Virtual Event
END:VEVENT
BEGIN:VEVENT
DTSTART;VALUE=DATE:20240424
DTEND;VALUE=DATE:20240426
DTSTAMP:20260421T190226
CREATED:20231211T182230Z
LAST-MODIFIED:20231211T182728Z
UID:18962-1713916800-1714089599@sassmagazine.com
SUMMARY:4th World Congress On Pediatrics and Neonatology\,2024
DESCRIPTION:We are calling all doctors\, researchers\, faculties\, professors\, and nurses related to the Pediatrics field. The Pediatrics and Neonatology Conference in London is the perfect discovery and group collaboration opportunity. You will also be able to listen to 6 keynote speakers from around the world. Early bird registration closes on December 31st!
URL:https://sassmagazine.com/event/4th-world-congress-on-pediatrics-and-neonatology2024/
LOCATION:Hyatt Place London Heathrow Airport
CATEGORIES:In Person Event
END:VEVENT
BEGIN:VEVENT
DTSTART;TZID=UTC:20240425T090000
DTEND;TZID=UTC:20240425T170000
DTSTAMP:20260421T190226
CREATED:20240327T155407Z
LAST-MODIFIED:20240327T155407Z
UID:19774-1714035600-1714064400@sassmagazine.com
SUMMARY:Steps to Success
DESCRIPTION:Steps to Success is more than just a conference; it’s a transformative experience. Our program provides women from all walks of life with the tools\, insights\, and connections they need to thrive. The engaging workshops and experiences will help attendees gain valuable skills\, strategies\, and perspectives to propel their development forward. \nOur lineup of speakers includes accomplished experts\, community leaders\, and trailblazers who are committed to championing women’s empowerment. From sharing their own stories of overcoming challenges to offering practical advice\, each speaker brings a unique perspective and wealth of knowledge to the table. \nREGISTER HERE
URL:https://sassmagazine.com/event/steps-to-success/
LOCATION:Springfield Manor\, 11836 Auburn Rd\, Thurmont\, MD\, 21788\, United States
CATEGORIES:In Person Event
END:VEVENT
END:VCALENDAR