BEGIN:VCALENDAR
VERSION:2.0
PRODID:-//Sass Magazine - ECPv6.15.18//NONSGML v1.0//EN
CALSCALE:GREGORIAN
METHOD:PUBLISH
X-WR-CALNAME:Sass Magazine
X-ORIGINAL-URL:https://sassmagazine.com
X-WR-CALDESC:Events for Sass Magazine
REFRESH-INTERVAL;VALUE=DURATION:PT1H
X-Robots-Tag:noindex
X-PUBLISHED-TTL:PT1H
BEGIN:VTIMEZONE
TZID:America/New_York
BEGIN:DAYLIGHT
TZOFFSETFROM:-0500
TZOFFSETTO:-0400
TZNAME:EDT
DTSTART:20250309T070000
END:DAYLIGHT
BEGIN:STANDARD
TZOFFSETFROM:-0400
TZOFFSETTO:-0500
TZNAME:EST
DTSTART:20251102T060000
END:STANDARD
BEGIN:DAYLIGHT
TZOFFSETFROM:-0500
TZOFFSETTO:-0400
TZNAME:EDT
DTSTART:20260308T070000
END:DAYLIGHT
BEGIN:STANDARD
TZOFFSETFROM:-0400
TZOFFSETTO:-0500
TZNAME:EST
DTSTART:20261101T060000
END:STANDARD
BEGIN:DAYLIGHT
TZOFFSETFROM:-0500
TZOFFSETTO:-0400
TZNAME:EDT
DTSTART:20270314T070000
END:DAYLIGHT
BEGIN:STANDARD
TZOFFSETFROM:-0400
TZOFFSETTO:-0500
TZNAME:EST
DTSTART:20271107T060000
END:STANDARD
END:VTIMEZONE
BEGIN:VEVENT
DTSTART;VALUE=DATE:20260420
DTEND;VALUE=DATE:20260421
DTSTAMP:20260419T083905
CREATED:20250908T123204Z
LAST-MODIFIED:20250908T123204Z
UID:23261-1776643200-1776729599@sassmagazine.com
SUMMARY:4th International Summit on Gravitation\, Astrophysics and Cosmology
DESCRIPTION:Check out the 4th International Summit on Gravitation\, Astrophysics\, and Cosmology (ISGAC2026)\, taking place from April 20-22\, 2026 in Frankfurt\, Germany. This premier international forum will bring together leading experts to discuss the latest advancements in Gravitation\, Astrophysics\, and Cosmology. \nCome together to celebrate progress and explore new frontiers in gravitational physics and cosmology. \nThe topics covered at ISGAC2026 will include Gravitational Physics and Lensing\, Wave-Particle Duality\, Applied Relativity\, Stellar and Solar Physics\, Alternative Theories of Gravity\, Jet Physics and Neutrino Cosmology. The conference will host distinguished keynote speakers from top universities and industry leaders\, who will share valuable insights and engage in thought-provoking discussions.\nREGISTER TODAY!
URL:https://sassmagazine.com/event/4th-international-summit-on-gravitation-astrophysics-and-cosmology/
LOCATION:Frankfurt\, Germany\, Frankfurt\, Germany
CATEGORIES:In Person Event
END:VEVENT
BEGIN:VEVENT
DTSTART;VALUE=DATE:20260424
DTEND;VALUE=DATE:20260425
DTSTAMP:20260419T083905
CREATED:20260106T164347Z
LAST-MODIFIED:20260107T133402Z
UID:24108-1776988800-1777075199@sassmagazine.com
SUMMARY:2026 Howard County Chamber Women’s Leadership Conference
DESCRIPTION:The 2026 Women’s Leadership Conference (WLC) takes place on Friday\, April 24\, at the Maryland Live! Event Center. Now in its 12th year\, the conference brings together hundreds of women from across the region for a full day of learning\, professional growth and connection in a high-energy environment. \nDesigned for professionals at every stage of their careers\, the event supports those just starting out\, leading teams\, or exploring new opportunities. The 2026 theme\, Build: Confidence\, Curiosity\, Connection\, centers on creating a strong foundation for lasting impact. \nProgramming includes dynamic sessions\, interactive workshops and meaningful networking opportunities aimed at building skills\, expanding perspective and strengthening connections with other professionals. Sponsorship packages are available for organizations seeking visibility and engagement opportunities. \nREGISTER HERE
URL:https://sassmagazine.com/event/2026-howard-county-chamber-womens-leadership-conference/
LOCATION:Maryland Live! Event Center\, 7002 Arundel Mills Cir\, Hanover\, MD\, 21076
CATEGORIES:In Person Event
END:VEVENT
BEGIN:VEVENT
DTSTART;TZID=America/New_York:20260425T120000
DTEND;TZID=America/New_York:20260425T160000
DTSTAMP:20260419T083905
CREATED:20260203T142147Z
LAST-MODIFIED:20260203T142147Z
UID:24290-1777118400-1777132800@sassmagazine.com
SUMMARY:Westminster Wine Stroll
DESCRIPTION:Sip\, swirl and savor your way through a day of pure wine-soaked fun! This stroll is bursting with bold flavors\, good vibes\, and unforgettable memories. From crisp whites to robust reds\, explore a delicious lineup of local Maryland wines while enjoying live entertainment\, great food\, local artisans and plenty of laughs. Grab your friends\, raise a glass\, and let the good times pour! \nGET TICKETS HERE
URL:https://sassmagazine.com/event/westminster-wine-stroll/
LOCATION:Westminster\, MD
CATEGORIES:In Person Event
ORGANIZER;CN="City of Westminster Recreation & Parks Department":MAILTO:westminsterrec@westminstermd.gov
END:VEVENT
BEGIN:VEVENT
DTSTART;TZID=America/New_York:20260425T180000
DTEND;TZID=America/New_York:20260425T210000
DTSTAMP:20260419T083905
CREATED:20260319T200039Z
LAST-MODIFIED:20260319T200039Z
UID:24552-1777140000-1777150800@sassmagazine.com
SUMMARY:ACT's 2026 Gala
DESCRIPTION:An elegant fundraiser that brings together ACT’s supporters with food and entertainment. \nGET TICKETS
URL:https://sassmagazine.com/event/acts-2026-gala/
LOCATION:ACT Black Box Studio\, 43 S Potomac St\, Hagerstown\, 21740\, United States
CATEGORIES:In Person Event
END:VEVENT
BEGIN:VEVENT
DTSTART;TZID=America/New_York:20260425T200000
DTEND;TZID=America/New_York:20260425T213000
DTSTAMP:20260419T083905
CREATED:20260325T201211Z
LAST-MODIFIED:20260325T201211Z
UID:24582-1777147200-1777152600@sassmagazine.com
SUMMARY:Squirrel Nut Zippers: Jazz From the Back O’ Town
DESCRIPTION:A Musical Journey to the Birthplace of Jazz in 1920s New Orleans. The Squirrel Nut Zippers Jazz from the Back ‘O Town show is an intriguing look at the birth of Jazz\, focused on the prodigious musical neighborhood of New Orleans called Back O’ Town. \nThe Zippers present a delightful view into a magical era of the late 19th century through the Roaring 20s in New Orleans’ Back O’ Town neighborhood. Performing reverent yet exciting renditions of such seminal NOLA classics as Jelly Roll Morton’s “Animule Ball\,” Louis Armstrong’s “Back O’ Town Blues\,” the Zippers also perform favorites from their own catalog adapted and arranged to more closely echo the sounds of 1920s New Orleans. \nGET TICKETS
URL:https://sassmagazine.com/event/squirrel-nut-zippers-jazz-from-the-back-o-town/
LOCATION:Weinberg Center for the Arts\, 20 West Patrick St.\, Frederick\, MD\, 21701\, United States
CATEGORIES:In Person Event
END:VEVENT
BEGIN:VEVENT
DTSTART;TZID=America/New_York:20260426T110000
DTEND;TZID=America/New_York:20260426T140000
DTSTAMP:20260419T083905
CREATED:20260325T192238Z
LAST-MODIFIED:20260325T192238Z
UID:24566-1777201200-1777212000@sassmagazine.com
SUMMARY:Wedding Walk
DESCRIPTION:The Downtown Wedding Walk is a unique way to showcase some of the amazing wedding venues and vendors that we have locally. Participants will stroll between 6 Downtown venues (including the brand new venue\, The Banyan!)\, which will each be set up as if a real wedding is taking place\, and with a variety of vendors showcased at each location. A creative afternoon full of wedding-planning inspiration! \nAfter the fully immersive wedding walk experience\, participants are encouraged to gather at Colonial Jewelers for the annual Cake Dig\, sponsored by Sage Cakery\, at 2pm. This year the Cake Dig will be done a bit differently\, so stick around to see the fun – and for a chance to win raffle prizes. Haven’t attended our annual Cake Dig before? Even more reason to join us! The Cake Dig is when we invite a selection of brides and grooms from our Wedding Walk participants to come on stage and dig through a long wedding cake made by Sage Cakery to find the plastic Diamond and win more prizes. This event is always tons of fun\, whether you’re digging or watching. \nFinish touring the venues early? Grab a bite or a drink at participating downtown dining establishments\, where you can find specials and discounts for showing your Wedding Walk passport\, before circling back for the Cake Dig. Participating locations to be announced. \nLEARN MORE
URL:https://sassmagazine.com/event/wedding-walk/
LOCATION:Downtown Frederick
CATEGORIES:In Person Event
ORGANIZER;CN="Colonial Jewelers":MAILTO:www.colonialjewelers.com
END:VEVENT
BEGIN:VEVENT
DTSTART;TZID=America/New_York:20260426T120000
DTEND;TZID=America/New_York:20260426T160000
DTSTAMP:20260419T083905
CREATED:20260325T190255Z
LAST-MODIFIED:20260325T190255Z
UID:24560-1777204800-1777219200@sassmagazine.com
SUMMARY:America 250 History Fair
DESCRIPTION:April 26\, 2026 | 12-4PM\nCarroll Creek Park in Downtown Frederick \nJoin the Daughters and Sons of the American Revolution and the Frederick Historic Sites Consortium for a “Walk Through History” highlighting the role that Maryland\, and particularly Frederick County\, has played in the birth and development of our nation as we commemorate the 250th anniversary of America. \nThe opening ceremony will begin with remarks from local and state dignitaries as well as special guests. Following the opening\, you will be able explore a whole lineup of historic venues and organizations\, each bringing the past to life in their own unique way. You’ll meet passionate reenactors\, chat with experts in period attire\, and step straight into the stories that shaped our history. \nCome\, see\, and discover! LEARN MORE
URL:https://sassmagazine.com/event/america-250-history-fair/
LOCATION:Carroll Creek Park\, 50 Carroll Creek Way\, Frederick\, MD\, 21701\, United States
CATEGORIES:In Person Event
END:VEVENT
BEGIN:VEVENT
DTSTART;TZID=America/New_York:20260427T080000
DTEND;TZID=America/New_York:20260430T180000
DTSTAMP:20260419T083905
CREATED:20260223T133826Z
LAST-MODIFIED:20260223T133826Z
UID:24353-1777276800-1777572000@sassmagazine.com
SUMMARY:Workhuman Live
DESCRIPTION:You’re not alone. Nearly 44% of employers ranked Comp and Ben a top concern. With budgets tightening\, we’re seeing a conflict between company and employee needs. Fear not. \nAt Workhuman Live\, you’ll hear from leaders who have cracked the code on how to make compensation both fair and good for the business. \n\n\n\n\nInspiration isn’t just intellectual \nIt calls for your full self. That’s why Workhuman Live is a whole-human experience that feeds your mind and soul. \n\nImmersive activations showcasing culture in action\nBuzz-worthy stage experiences\nVisionary voices delivering bold ideas\nInfused with Orlando’s local flavors and spirit\n\nInsight without implementation is just information. That’s why we build a whole-human environment where leaders are receptive to learning and energized to act. \n\nGET TICKETS
URL:https://sassmagazine.com/event/workhuman-live/
LOCATION:Gaylord Palms Resort & Convention Center\, 6000 Osceola Pkwy\, Kissimmee\, FL\, 34746\, United States
CATEGORIES:In Person Event
END:VEVENT
BEGIN:VEVENT
DTSTART;VALUE=DATE:20260430
DTEND;VALUE=DATE:20260504
DTSTAMP:20260419T083905
CREATED:20260107T140707Z
LAST-MODIFIED:20260107T140707Z
UID:24171-1777507200-1777852799@sassmagazine.com
SUMMARY:Founders Weekend: Wealth & Wellness Retreat
DESCRIPTION:Founders Weekend is a four-day Wealth & Wellness Retreat hosted at the PGA National Resort in Palm Beach Gardens\, Florida. The retreat brings together hundreds of women business owners for a weekend centered on connection\, leadership development and personal growth. \nProgramming includes mainstage keynotes\, fireside chats\, panel discussions\, breakout sessions\, workshops\, networking opportunities\, wellness activations and curated dining experiences. The event is designed to support relationship-building among women founders while providing education and inspiration from leaders across industries. \nThe 2026 retreat features speakers and experts including Kim Perell\, Tiffany Moon\, Hayley Paige\, Jessica Zweig\, Julia Haart\, Kendra Bracken-Ferguson\, Tisha Thompson\, Jen Gottlieb\, Julie Solomon and many others. Ticket options include General Admission and VIP experiences\, with on-site accommodations available at a discounted group rate for attendees. \n\nGET TICKETS
URL:https://sassmagazine.com/event/founders-weekend-wealth-wellness-retreat/
LOCATION:PGA National Resort\, Palm Beach Gardens\, FL
CATEGORIES:In Person Event
END:VEVENT
BEGIN:VEVENT
DTSTART;TZID=America/New_York:20260430T193000
DTEND;TZID=America/New_York:20260430T193000
DTSTAMP:20260419T083905
CREATED:20260106T163311Z
LAST-MODIFIED:20260106T163312Z
UID:24104-1777577400-1777577400@sassmagazine.com
SUMMARY:Frederick Speaker Series Presents: Walter Mosley
DESCRIPTION:This Frederick Speaker Series event features Walter Mosley. He is an acclaimed and prolific author whose body of work spans more than 60 books. His genres include mystery\, science fiction\, young adult\, nonfiction\, graphic novels\, and erotica. He is best known for the Easy Rawlins detective series. It gained widespread recognition with Devil in a Blue Dress\, later adapted into a feature film starring Denzel Washington. Mosley revisits the character in Gray Dawn\, scheduled for release on September 16\, 2025. \nMosley’s work extends beyond literature into film and television. He served as an executive producer and writer for FX’s Snowfall and The Last Days of Ptolemy Grey on Apple TV+\, starring Samuel L. Jackson. His novel The Man in My Basement is being adapted into a Hulu thriller film starring Willem Dafoe and Corey Hawkins. His writing has appeared in The New York Times\, The New Yorker and Playboy. Additionally\, he has received a Grammy Award for his liner notes for a Richard Pryor compilation. \nKnown for his insight on race\, justice\, and American society\, Mosley draws from his personal background. He grew up in Los Angeles within a Black and Jewish household. He is also the founder of The Publishing Certificate Program at CUNY. This program works to expand access to publishing careers for underrepresented communities. \nThis presentation is part of the Frederick Speaker Series\, now in its 13th season. It is recognized for bringing world-class speakers to the Frederick area and engaging the community through meaningful discourse. Each speaker event includes an optional Meet & Greet experience\, available for an additional fee. This offers photo opportunities\, signings when possible and light refreshments. Meet & Greet proceeds benefit children’s programming at Frederick County Public Libraries. \nGET TICKETS
URL:https://sassmagazine.com/event/frederick-speaker-series-presents-walter-mosley/
LOCATION:Weinberg Center for the Arts\, 20 West Patrick St.\, Frederick\, MD\, 21701\, United States
CATEGORIES:In Person Event
END:VEVENT
END:VCALENDAR